BEGIN:VCALENDAR
VERSION:2.0
PRODID:-//ChamberMaster//Event Calendar 2.0//EN
METHOD:PUBLISH
X-PUBLISHED-TTL:P3D
REFRESH-INTERVAL:P3D
CALSCALE:GREGORIAN
BEGIN:VEVENT
DTSTART:20230511T160000Z
DTEND:20230511T230000Z
X-MICROSOFT-CDO-ALLDAYEVENT:FALSE
SUMMARY:MEMBER EVENT: ReTreet Ribbon Cutting & Open House
DESCRIPTION:Join ReTreet for their ribbon cutting ceremony\, hosted by the Mountain Lakes Chamber of Commerce\, and Open House on May 11. Come tour our new glamping tents and tiny homes! The ribbon cutting will take place at 11 a.m.\n\n\n\nWe will have Real Tacos food truck on site selling tacos. Hope to see you all there!
X-ALT-DESC;FMTTYPE=text/html:<span style="font-size:16px\;">Join <strong>ReTreet</strong> for their ribbon cutting ceremony\, hosted by the Mountain Lakes Chamber of Commerce\, and Open House on May 11. Come tour our new glamping tents and tiny homes! The ribbon cutting will take place at 11 a.m.<br />\n<br />\nWe will have Real Tacos food truck on site selling tacos. Hope to see you all there!</span><br />\n&nbsp\;
LOCATION:
UID:e.2112.14372
SEQUENCE:3
DTSTAMP:20260423T232456Z
URL:https://cm.hsvchamber.org/events/details/member-event-retreet-ribbon-cutting-open-house-14372
END:VEVENT

END:VCALENDAR
