BEGIN:VCALENDAR
VERSION:2.0
PRODID:-//ChamberMaster//Event Calendar 2.0//EN
METHOD:PUBLISH
X-PUBLISHED-TTL:P3D
REFRESH-INTERVAL:P3D
CALSCALE:GREGORIAN
BEGIN:VEVENT
DTSTART:20150704T150000Z
DTEND:20150704T210000Z
X-MICROSOFT-CDO-ALLDAYEVENT:FALSE
SUMMARY:MEMBER EVENT: Red\, White and Fun!
DESCRIPTION:Before rockets glare and fireworks are in the air\, declare your right to have some science fun with red\, white and blue experiments and activities at Sci-Quest!\n\n\n\nLearn why fireworks are different colors and make an explosive fireworks hat. See an eruption of patriotic foam in red\, white and blue.
X-ALT-DESC;FMTTYPE=text/html:<br />\n<span style="font-size:14px\;"><span style="font-family:arial\;">Before rockets glare and fireworks are in the air\, declare your right to have some science fun with red\, white and blue experiments and activities at Sci-Quest!<br />\n<br />\nLearn why fireworks are different colors and make an explosive fireworks hat. See an eruption of patriotic foam in red\, white and blue.&nbsp\;</span></span>
LOCATION:Sci-Quest 1435 Paramount Drive Huntsville\, AL 35806
UID:e.2112.2975
SEQUENCE:3
DTSTAMP:20260419T155918Z
URL:https://cm.hsvchamber.org/events/details/member-event-red-white-and-fun-07-04-2015-2975
END:VEVENT

END:VCALENDAR
