BEGIN:VCALENDAR
VERSION:2.0
PRODID:-//ChamberMaster//Event Calendar 2.0//EN
METHOD:PUBLISH
X-PUBLISHED-TTL:P3D
REFRESH-INTERVAL:P3D
CALSCALE:GREGORIAN
BEGIN:VEVENT
DTSTART:20230308T000000Z
DTEND:20230308T023000Z
X-MICROSOFT-CDO-ALLDAYEVENT:FALSE
SUMMARY:MEMBER EVENT: Raise the Roof Benefit Gala
DESCRIPTION:Habitat For Humanity of the River Valley will host our Raise the Roof benefit gala at the Von Braun Center. The evening will consist of a delicious meal\, light entertainment\, a keynote speaker\, and an award presentation of Partner of the Year\, and Volunteer of the Year. This exciting and meaningful event will help us build even more affordable homes in our community.
X-ALT-DESC;FMTTYPE=text/html:<span style="font-size:16px\;">Habitat For Humanity of the River Valley will host our <strong>Raise the Roof </strong>benefit gala at the Von Braun Center. The evening will consist of a delicious meal\, light entertainment\, a keynote speaker\, and an award presentation of Partner of the Year\, and Volunteer of the Year. This exciting and meaningful event will help us build even more affordable homes in our community.</span><br />\n&nbsp\;
LOCATION:VBC East Hall
UID:e.2112.13795
SEQUENCE:3
DTSTAMP:20260423T202150Z
URL:https://cm.hsvchamber.org/events/details/member-event-raise-the-roof-benefit-gala-13795
END:VEVENT

END:VCALENDAR
