BEGIN:VCALENDAR
VERSION:2.0
PRODID:-//ChamberMaster//Event Calendar 2.0//EN
METHOD:PUBLISH
X-PUBLISHED-TTL:P3D
REFRESH-INTERVAL:P3D
CALSCALE:GREGORIAN
BEGIN:VEVENT
DTSTART:20260514T130000Z
DTEND:20260514T170000Z
X-MICROSOFT-CDO-ALLDAYEVENT:FALSE
SUMMARY:MEMBER EVENT: Pull for Salvation Army Sporting Clays Tournament
DESCRIPTION:5th Annual Pull for Salvation Army Sporting Clays Tournament\n\nRegister by May 7\n\n\n\nBring your own shotgun\, ear plugs\, eye protection\, and ammo.\n\nAmmo available for purchase - limited availability\, 12GA only.\n\n\n\nEmail submission forms to Paige Sandlin\n\nPay online HERE
X-ALT-DESC;FMTTYPE=text/html:<span style="font-size:16px\;">5th Annual <strong>Pull for Salvation Army Sporting Clays Tournament</strong><br />\nRegister by May 7<br />\n<br />\nBring your own shotgun\, ear plugs\, eye protection\, and ammo.</span><br style="font-size: 16px\;" />\n<span style="font-size:16px\;">Ammo available for purchase - limited availability\, 12GA only.<br />\n<br />\nEmail submission forms to <a href="mailto:paige@raypearman.com">Paige Sandlin</a><br />\nPay online <a href="https://give.salvationarmyalm.org/pull"><strong>HERE</strong></a>&nbsp\;</span>
LOCATION:Old South Clays
UID:e.2112.18384
SEQUENCE:3
DTSTAMP:20260422T184408Z
URL:https://cm.hsvchamber.org/events/details/member-event-pull-for-salvation-army-sporting-clays-tournament-18384
END:VEVENT

END:VCALENDAR
