BEGIN:VCALENDAR
VERSION:2.0
PRODID:-//ChamberMaster//Event Calendar 2.0//EN
METHOD:PUBLISH
X-PUBLISHED-TTL:P3D
REFRESH-INTERVAL:P3D
CALSCALE:GREGORIAN
BEGIN:VEVENT
DTSTART:20230418T180000Z
DTEND:20230418T193000Z
X-MICROSOFT-CDO-ALLDAYEVENT:FALSE
SUMMARY:MEMBER EVENT: Project Pollinator Garden
DESCRIPTION:The Land Trust of North Alabama will be working towards adding a pollinator garden at all of its trailheads. Pollinators include bees\, butterflies\, moths\, flies\, beetles\, birds and bats. Everyone depends on pollinators in a practical way to provide the wide range of the foods we eat. Come and find out you can incorporate pollinator gardens into the home landscape. \n\n\n\nBrought to you by LearningQUEST
X-ALT-DESC;FMTTYPE=text/html:<span style="font-size:16px\;">The Land Trust of North Alabama will be working towards adding a pollinator garden at all of its trailheads. Pollinators include bees\, butterflies\, moths\, flies\, beetles\, birds and bats. Everyone depends on pollinators in a practical way to provide the wide range of the foods we eat. Come and find out you can incorporate pollinator gardens into the home landscape.&nbsp\;</span><br />\n<br />\n<span style="font-size:16px\;">Brought to you by LearningQUEST</span><br />\n&nbsp\;
LOCATION:Downtown Huntsville Public Library Auditorium
UID:e.2112.14418
SEQUENCE:3
DTSTAMP:20260423T213829Z
URL:https://cm.hsvchamber.org/events/details/member-event-project-pollinator-garden-14418
END:VEVENT

END:VCALENDAR
