BEGIN:VCALENDAR
VERSION:2.0
PRODID:-//ChamberMaster//Event Calendar 2.0//EN
METHOD:PUBLISH
X-PUBLISHED-TTL:P3D
REFRESH-INTERVAL:P3D
CALSCALE:GREGORIAN
BEGIN:VEVENT
DTSTART:20151026T173000Z
DTEND:20151026T220000Z
X-MICROSOFT-CDO-ALLDAYEVENT:FALSE
SUMMARY:MEMBER EVENT: PPT Solutions Charity Golf Scramble
DESCRIPTION:PPT Solutions Charity Golf Scramble to benefit the American Heart Association. For more information\, click here.
X-ALT-DESC;FMTTYPE=text/html:<br />\n<span style="font-size:14px\;"><span style="font-family: arial\;">PPT Solutions Charity Golf Scramble to benefit the American Heart Association. For more information\, click <a href="http://www.pptsinc.com/AHA-GOLF">here</a>.</span></span>
LOCATION:Valley Hill Country Club 8300 Valley Hill Dr SE Huntsville\, AL 35802
UID:e.2112.5111
SEQUENCE:3
DTSTAMP:20260419T210103Z
URL:https://cm.hsvchamber.org/events/details/member-event-ppt-solutions-charity-golf-scramble-10-26-2015-5111
END:VEVENT

END:VCALENDAR
