BEGIN:VCALENDAR
VERSION:2.0
PRODID:-//ChamberMaster//Event Calendar 2.0//EN
METHOD:PUBLISH
X-PUBLISHED-TTL:P3D
REFRESH-INTERVAL:P3D
CALSCALE:GREGORIAN
BEGIN:VEVENT
DTSTART:20230825T110000Z
DTEND:20230826T000000Z
X-MICROSOFT-CDO-ALLDAYEVENT:FALSE
SUMMARY:MEMBER EVENT: PJ's Coffee Opening Day in Huntsville
DESCRIPTION:PJ's Coffee of New Orleans is coming to Downtown Huntsville! This new location walk-up location\, with outdoor seating\, is located at the bottom of the famous Regions building. Join us for Opening Day on Friday\, Aug. 25! This PJ's Coffee location is locally owned and operated.\n\n\n\nOpening Day giveaways & specials:\n\n	Free 3-count order of beignets for the first 104 customers\n	Free PJ's coffee tumbler to 10 customers\, every top on the hour\n	$50 PJ's Gift Card for the first 5 customers\n	Enjoy a free upsize from August 25 31\n	Customers can enter to win $100 by signing up for rewards\n\n\n\nAbout PJ's Coffee\n\nPhyllis Jordan\, a pioneer in the coffee industry\, founded PJ's Coffee of New Orleans in 1978 and demonstrated that better beans\, superior roasting techniques\, and pure passion for the art of coffee-making mattered. In 2008\, the company was purchased by New Orleans natives and brothers\, Paul\, Steven\, and Scott Ballard. PJ's Coffee serves a wide variety of hot\, iced\, and frozen coffee beverages using only the best quality Arabica coffee beans\, as well as organic tea and fresh breakfast pastries. PJ's Original Cold BrewTM Ice Coffee is brewed daily using a special cold-drip process that protects the flavor and strength of the beans while producing a coffee that is two-thirds less acidic   a process and technique developed by its founder and used for more than 40 years at all PJ's locations. Bags of whole-bean coffee and single-serve cups of PJ's Coffee are available for sale in-store and online. With more than 145 operating stores\, including four international locations\, PJ's Coffee continues to grow in the U.S. and abroad. For more information\, visit pjscoffee.com or follow PJ's Coffee on Facebook\, Instagram\, or Twitter.
X-ALT-DESC;FMTTYPE=text/html:<span style="font-size:16px\;">PJ&rsquo\;s Coffee of New Orleans is coming to Downtown Huntsville! This new location walk-up location\, with outdoor seating\, is located at the bottom of the famous Regions building. Join us for <strong>Opening Day</strong> on Friday\, Aug. 25! This PJ&rsquo\;s Coffee location is locally owned and operated.<br />\n<br />\n<u>Opening Day giveaways &amp\; specials</u>:</span>\n<ul>\n	<li><span style="font-size:16px\;">Free 3-count order of beignets for the first 104 customers</span></li>\n	<li><span style="font-size:16px\;">Free PJ&rsquo\;s coffee tumbler to 10 customers\, every top on the hour</span></li>\n	<li><span style="font-size:16px\;">$50 PJ&rsquo\;s Gift Card for the first 5 customers</span></li>\n	<li><span style="font-size:16px\;">Enjoy a free upsize from August 25&ndash\;31</span></li>\n	<li><span style="font-size:16px\;">Customers can enter to win $100 by signing up for rewards</span></li>\n</ul>\n<br />\n<span style="font-size:16px\;"><em><strong>About PJ&rsquo\;s Coffee</strong><br />\n<span style="font-size:14px\;">Phyllis Jordan\, a pioneer in the coffee industry\, founded PJ&rsquo\;s Coffee of New Orleans in 1978 and demonstrated that better beans\, superior roasting techniques\, and pure passion for the art of coffee-making mattered. In 2008\, the company was purchased by New Orleans natives and brothers\, Paul\, Steven\, and Scott Ballard. PJ&rsquo\;s Coffee serves a wide variety of hot\, iced\, and frozen coffee beverages using only the best quality Arabica coffee beans\, as well as organic tea and fresh breakfast pastries. PJ&rsquo\;s Original Cold Brew<sup>TM</sup> Ice Coffee is brewed daily using a special cold-drip process that protects the flavor and strength of the beans while producing a coffee that is two-thirds less acidic &ndash\; a process and technique developed by its founder and used for more than 40 years at all PJ&rsquo\;s locations. Bags of whole-bean coffee and single-serve cups of PJ&rsquo\;s Coffee are available for sale in-store and online. With more than 145 operating stores\, including four international locations\, PJ&rsquo\;s Coffee continues to grow in the U.S. and abroad. For more information\, visit <a href="https://www.pjscoffee.com/">pjscoffee.com</a> or follow PJ&rsquo\;s Coffee on Facebook\, Instagram\, or Twitter. </span></em></span><br />\n&nbsp\;
LOCATION:Bottom of Regions Building
UID:e.2112.16044
SEQUENCE:3
DTSTAMP:20260424T040928Z
URL:https://cm.hsvchamber.org/events/details/member-event-pj-s-coffee-opening-day-in-huntsville-16044
END:VEVENT

END:VCALENDAR
