BEGIN:VCALENDAR
VERSION:2.0
PRODID:-//ChamberMaster//Event Calendar 2.0//EN
METHOD:PUBLISH
X-PUBLISHED-TTL:P3D
REFRESH-INTERVAL:P3D
CALSCALE:GREGORIAN
BEGIN:VEVENT
DTSTART:20230326T210000Z
DTEND:20230327T000000Z
X-MICROSOFT-CDO-ALLDAYEVENT:FALSE
SUMMARY:MEMBER EVENT: Open House & Jam Session
DESCRIPTION:Please join us for our Open House and Jam Session!\n\n\n\nValley Conservatory is a music service center with programs designed to develop all aspects of a student's mind\, body and character. It has provided services in the arts to the Huntsville/Madison County area since 1998. \n\n\n\nValley Conservatory offers:\n\n	 Private and class instruction\, pre-school through adult\n	Music Theater Classes and Performances\n	Music education programs\, extra-curricular and academic\n	Arts learning and exploration through camps and workshops\n	Customized art experiences for after school programs\n	A Lyceum series\, Jam sessions and exhibits offered to the public\n	Valley Conservatory Booking Agency   Musicians for hire for any type of event or occasion
X-ALT-DESC;FMTTYPE=text/html:<span style="font-size:16px\;">Please join us for our Open House and Jam Session!<br />\n<br />\nValley Conservatory is a music service center with programs designed to develop all aspects of a student&rsquo\;s mind\, body and character. It has provided services in the arts to the Huntsville/Madison County area since 1998.&nbsp\;<br />\n<br />\nValley Conservatory offers:</span>\n<ul>\n	<li><span style="font-size:16px\;">&nbsp\;Private and class instruction\, pre-school through adult</span></li>\n	<li><span style="font-size:16px\;">Music Theater Classes and Performances</span></li>\n	<li><span style="font-size:16px\;">Music education programs\, extra-curricular and academic</span></li>\n	<li><span style="font-size:16px\;">Arts learning and exploration through camps and workshops</span></li>\n	<li><span style="font-size:16px\;">Customized art experiences for after school programs</span></li>\n	<li><span style="font-size:16px\;">A Lyceum series\, Jam sessions and exhibits offered to the public</span></li>\n	<li><span style="font-size:16px\;">Valley Conservatory Booking Agency &ndash\; Musicians for hire for any type of event or occasion</span></li>\n</ul>\n
LOCATION:
UID:e.2112.14114
SEQUENCE:3
DTSTAMP:20260423T201700Z
URL:https://cm.hsvchamber.org/events/details/member-event-open-house-jam-session-14114
END:VEVENT

END:VCALENDAR
