BEGIN:VCALENDAR
VERSION:2.0
PRODID:-//ChamberMaster//Event Calendar 2.0//EN
METHOD:PUBLISH
X-PUBLISHED-TTL:P3D
REFRESH-INTERVAL:P3D
CALSCALE:GREGORIAN
BEGIN:VEVENT
DTSTART:20230803T163000Z
DTEND:20230803T200000Z
X-MICROSOFT-CDO-ALLDAYEVENT:FALSE
SUMMARY:MEMBER EVENT: OLLI's 30th Anniversary Kickoff
DESCRIPTION:Celebrate the 30th anniversary of lifelong learning at the University of Alabama in Huntsville! Enjoy a catered lunch and hear Homer Hickam\, author of 18 books\, including Rocket Boys.\n\n\n\nThe Academy of Lifelong Learning was formed at UAH in 1993 and became the Osher Lifelong Learning Institute in 2006. Other highlights include: Hosting Alabama OLLI Day with our friends from OLLIs at the University of Alabama and Auburn University and a rocket demonstration by UAH Propulsion Research Center.\n\n\n\nThe deadline to purchase tickets is July 20. More information can be found at osher.uah.edu
X-ALT-DESC;FMTTYPE=text/html:<span style="font-size:16px\;">Celebrate the 30th anniversary of lifelong learning at the University of Alabama in Huntsville! Enjoy a catered lunch and hear Homer Hickam\, author of 18 books\, including <em>Rocket Boys</em>.<br />\n<br />\nThe Academy of Lifelong Learning was formed at UAH in 1993 and became the Osher Lifelong Learning Institute in 2006. Other highlights include: Hosting Alabama OLLI Day with our friends from OLLIs at the University of Alabama and Auburn University and a rocket demonstration by UAH Propulsion Research Center.<br />\n<br />\nThe deadline to purchase tickets is July 20. More information can be found at <a href="https://www.uah.edu/library/olli/">osher.uah.edu</a></span><br />\n&nbsp\;
LOCATION:UAH Conference Training Center
UID:e.2112.15992
SEQUENCE:3
DTSTAMP:20260424T040632Z
URL:https://cm.hsvchamber.org/events/details/member-event-olli-s-30th-anniversary-kickoff-15992
END:VEVENT

END:VCALENDAR
