BEGIN:VCALENDAR
VERSION:2.0
PRODID:-//ChamberMaster//Event Calendar 2.0//EN
METHOD:PUBLISH
X-PUBLISHED-TTL:P3D
REFRESH-INTERVAL:P3D
CALSCALE:GREGORIAN
BEGIN:VEVENT
DTSTART:20230811T150000Z
DTEND:20230811T170000Z
X-MICROSOFT-CDO-ALLDAYEVENT:FALSE
SUMMARY:MEMBER EVENT: OLLI Fall Open House
DESCRIPTION:The Osher Lifelong Learning Institute (OLLI) at The University of Alabama in Huntsville (UAH) will hold an open house to kick off the fall 2023 semester on Aug. 11 from 10 a.m. to noon in the lobby of Wilson Hall on the UAH campus. UAH is a part of the University of Alabama System.\n\n\n\nCurrent and prospective OLLI members\, family\, friends and the community are invited to learn more about this group of lifelong learners age 50 and up as well as register for the fall term\, which starts Sept. 11. Guests can meet OLLI staff\, instructors and members of the curriculum committee\; check out the facilities\, and find out more about the 60 courses on the fall schedule. There will also be door prizes.\n\n\n\nOLLI at UAH members enjoy staying intellectually and socially active through courses\, social activities\, bonus lectures\, travel opportunities\, MIGs (Membership Interest Groups) and more. Courses cover a wide variety of topics\, including history\, literature\, music\, foreign languages\, exercise\, science and philosophy. New and renewing members can pick up their fall parking permit at the event.\n\n\n\nFor more information about OLLI at UAH\, visit osher.uah.edu.
X-ALT-DESC;FMTTYPE=text/html:<span style="font-size:16px\;">The Osher Lifelong Learning Institute (OLLI) at The University of Alabama in Huntsville (UAH) will hold an open house to kick off the fall 2023 semester on Aug. 11 from 10 a.m. to noon in the lobby of Wilson Hall on the UAH campus. UAH is a part of the University of Alabama System.<br />\n<br />\nCurrent and prospective OLLI members\, family\, friends and the community are invited to learn more about this group of lifelong learners age 50 and up as well as register for the fall term\, which starts Sept. 11. Guests can meet OLLI staff\, instructors and members of the curriculum committee\; check out the facilities\, and find out more about the 60 courses on the fall schedule. There will also be door prizes.<br />\n<br />\nOLLI at UAH members enjoy staying intellectually and socially active through courses\, social activities\, bonus lectures\, travel opportunities\, MIGs (Membership Interest Groups) and more. Courses cover a wide variety of topics\, including history\, literature\, music\, foreign languages\, exercise\, science and philosophy. New and renewing members can pick up their fall parking permit at the event.<br />\n<br />\nFor more information about OLLI at UAH\, visit <a href="https://www.uah.edu/library/olli/">osher.uah.edu</a>.</span><br />\n&nbsp\;
LOCATION:UAH Campus - Wilson Hall Lobby
UID:e.2112.16022
SEQUENCE:3
DTSTAMP:20260424T040501Z
URL:https://cm.hsvchamber.org/events/details/member-event-olli-fall-open-house-16022
END:VEVENT

END:VCALENDAR
