BEGIN:VCALENDAR
VERSION:2.0
PRODID:-//ChamberMaster//Event Calendar 2.0//EN
METHOD:PUBLISH
X-PUBLISHED-TTL:P3D
REFRESH-INTERVAL:P3D
CALSCALE:GREGORIAN
BEGIN:VEVENT
DTSTART:20230428T160000Z
DTEND:20230429T020000Z
X-MICROSOFT-CDO-ALLDAYEVENT:FALSE
SUMMARY:MEMBER EVENT: Officers Crumby & Morin Fundraiser
DESCRIPTION:Farm Burger will be hosting a fundraiser for Officers Crumby and Morin from the Huntsville Police Department. This is an all-day event to raise money for their families. \n\n\nFarm Burger works with local Huntsville farmers\, such as Humble Heart Farms (Elkmont\, AL)\, to create a menu centered around fresh flavors and healthy ingredients. We're passionate about making good\, farm-fresh food accessible to everyone. We favor organic and locally-grown ingredients and strive to support small-scale farmers and producers with time honored methods and excellent products. Our menu is simple\, focused on quality rather than quantity of choices\, and our chef-inspired burgers are a bit more interesting and unique than you would find at your average hamburger joint. Whether you choose to pair your burger with farm-fresh salad\, rings and fries\, or a handmade shake\, it's bound to be delicious.\nFarm Burger Huntsville is located along US-23 Frontage Road\, surrounded by other businesses in The Shops at Merchants Walk. Stop by to enjoy a well-deserved burger\, or skip the cooking and bring the whole family for a meal everyone will love. Our team is passionate about the food they serve\, so feel free to ask them where your meal came from!
X-ALT-DESC;FMTTYPE=text/html:<span style="font-size:18px\;">Farm Burger will be hosting a fundraiser for Officers Crumby and Morin from the Huntsville Police Department. This is an <strong>all-day event</strong> to raise money for their families.&nbsp\;</span>\n<p><br />\n<span style="font-size:14px\;"><em>Farm Burger works with local Huntsville farmers\, such as Humble Heart Farms (Elkmont\, AL)\, to create a menu centered around fresh flavors and healthy ingredients. We&rsquo\;re passionate about making good\, farm-fresh food accessible to everyone. We favor organic and locally-grown ingredients and strive to support small-scale farmers and producers with time honored methods and excellent products. Our menu is simple\, focused on quality rather than quantity of choices\, and our chef-inspired burgers are a bit more interesting and unique than you would find at your average hamburger joint. Whether you choose to pair your burger with farm-fresh salad\, rings and fries\, or a handmade shake\, it&rsquo\;s bound to be delicious.</em></span></p>\n<span style="font-size:14px\;"><em>Farm Burger Huntsville is located along US-23 Frontage Road\, surrounded by other businesses in The Shops at Merchants Walk. Stop by to enjoy a well-deserved burger\, or skip the cooking and bring the whole family for a meal everyone will love. Our team is passionate about the food they serve\, so feel free to ask them where your meal came from!</em></span><br />\n&nbsp\;
LOCATION:Farm Burger
UID:e.2112.14416
SEQUENCE:3
DTSTAMP:20260423T215004Z
URL:https://cm.hsvchamber.org/events/details/member-event-officers-crumby-morin-fundraiser-14416
END:VEVENT

END:VCALENDAR
