BEGIN:VCALENDAR
VERSION:2.0
PRODID:-//ChamberMaster//Event Calendar 2.0//EN
METHOD:PUBLISH
X-PUBLISHED-TTL:P3D
REFRESH-INTERVAL:P3D
CALSCALE:GREGORIAN
BEGIN:VEVENT
DTSTART:20210614T223000Z
DTEND:20210615T010000Z
X-MICROSOFT-CDO-ALLDAYEVENT:FALSE
SUMMARY:MEMBER EVENT: Off The Rack Boutique - VIP Shop & Sip
DESCRIPTION:Who needs a Shop & Sip with your girlfriends? Join us June 14 from 5:30-8 p.m. Enjoy 10% off store-wide (excluding long formals) and 40% off select casual wear pieces!
X-ALT-DESC;FMTTYPE=text/html:<span style="font-size:16px\;">Who needs a Shop &amp\; Sip with your girlfriends? Join us June 14 from 5:30-8 p.m. Enjoy 10% off store-wide (excluding long formals) and 40% off select casual wear pieces!</span><br />\n<br />\n&nbsp\;
LOCATION:
UID:e.2112.12911
SEQUENCE:3
DTSTAMP:20260421T101545Z
URL:https://cm.hsvchamber.org/events/details/member-event-off-the-rack-boutique-vip-shop-sip-12911
END:VEVENT

END:VCALENDAR
