BEGIN:VCALENDAR
VERSION:2.0
PRODID:-//ChamberMaster//Event Calendar 2.0//EN
METHOD:PUBLISH
X-PUBLISHED-TTL:P3D
REFRESH-INTERVAL:P3D
CALSCALE:GREGORIAN
BEGIN:VEVENT
DTSTART:20230211T143000Z
DTEND:20230211T233000Z
X-MICROSOFT-CDO-ALLDAYEVENT:FALSE
SUMMARY:MEMBER EVENT: Nurture Your Creative Soul Retreat
DESCRIPTION:Imagine having the whole day to just be creative. This day is packed with opportunities to try new things\, enjoy a warm and relaxed atmosphere\, and receive creative guidance from someone who will encourage you and help you find and nurture your own creativity.\n\n\n\nThis experience begins on Friday with packet pickup and overview\, in a "come and go" setting. Attendance to this is not necessary\, it's just an opportunity to get situated. A tour of Lowe Mill will start at 5 p.m. for anyone who would like a guided "insider" view of this repurposed mill. (if you're not familiar with Lowe Mill\, it's one of the largest\, privately owned art centers in the country!)\n\n\n\nOur retreat space includes a roomy classroom and a large space attached where we'll have four stations set up\, each with a different technique for you to try. You'll have time to visit each of the stations throughout the day during our breakout sessions. There's also a swap room\, where you can trade any supplies you would like to bring for something new to you!\n\n\n\nLunch is provided\, and refreshments will be available throughout the day.\n\nView the schedule HERE.\n\n\n\nYour packet includes:\n\n	Art journal\n	Notebook\n	Creativity Bundle\n	Certificate for one free "Open Art Journaling Studio" (2023)\n	Art Journaling Primer\n	Paper Pack
X-ALT-DESC;FMTTYPE=text/html:<span style="font-size:16px\;">Imagine having the whole day to just be creative. This day is packed with opportunities to try new things\, enjoy a warm and relaxed atmosphere\, and receive creative guidance from someone who will encourage you and help you find and nurture your own creativity.<br />\n<br />\nThis experience begins on Friday with packet pickup and overview\, in a &quot\;come and go&quot\; setting. Attendance to this is not necessary\, it&#39\;s just an opportunity to get situated. A tour of Lowe Mill will start at 5 p.m. for anyone who would like a guided &quot\;insider&quot\; view of this repurposed mill. (if you&#39\;re not familiar with Lowe Mill\, it&#39\;s one of the largest\, privately owned art centers in the country!)<br />\n<br />\nOur retreat space includes a roomy classroom and a large space attached where we&#39\;ll have four stations set up\, each with a different technique for you to try. You&#39\;ll have time to visit each of the stations throughout the day during our breakout sessions. There&#39\;s also a swap room\, where you can trade any supplies you would like to bring for something new to you!<br />\n<br />\nLunch is provided\, and refreshments will be available throughout the day.<br />\nView the schedule <a href="https://www.eventbrite.com/e/nurture-your-creative-soul-tiny-retreat-tickets-484839667497"><strong>HERE</strong></a>.<br />\n<br />\nYour packet includes:</span>\n<ul>\n	<li><span style="font-size:16px\;">Art journal</span></li>\n	<li><span style="font-size:16px\;">Notebook</span></li>\n	<li><span style="font-size:16px\;">Creativity Bundle</span></li>\n	<li><span style="font-size:16px\;">Certificate for one free &quot\;Open Art Journaling Studio&quot\; (2023)</span></li>\n	<li><span style="font-size:16px\;">Art Journaling Primer</span></li>\n	<li><span style="font-size:16px\;">Paper Pack</span></li>\n</ul>\n
LOCATION:Lowe Mill Arts & Entertainment
UID:e.2112.14028
SEQUENCE:3
DTSTAMP:20260422T011901Z
URL:https://cm.hsvchamber.org/events/details/member-event-nurture-your-creative-soul-retreat-14028
END:VEVENT

END:VCALENDAR
