BEGIN:VCALENDAR
VERSION:2.0
PRODID:-//ChamberMaster//Event Calendar 2.0//EN
METHOD:PUBLISH
X-PUBLISHED-TTL:P3D
REFRESH-INTERVAL:P3D
CALSCALE:GREGORIAN
BEGIN:VEVENT
DTSTART:20260512T133000Z
DTEND:20260512T213000Z
X-MICROSOFT-CDO-ALLDAYEVENT:FALSE
SUMMARY:MEMBER EVENT: NAVIGATE Nonprofit Network Conference™
DESCRIPTION:NAVIGATE Nonprofit Network Conference  is an annual event that encourages nonprofit board members\, staff\, and volunteers to learn from and strengthen each other.\n\n\n\nThis affordable\, high-quality professional development featuring 24 unique workshops across a wide range of topics connects nonprofit leaders with the strategies that will help them navigate challenges and help their organizations thrive. \n\n \n\nAlison Kling\, CEO of Free 2 Teach is the 2026 NAVIGATE keynote speaker.  \n\n\n\n"Lead with How: From Identity to Impact"\n\nWhat if the most powerful strategy your organization has  is something you're already doing? Lead with How framework: a practical and powerful approach to help nonprofits uncover how their daily work connects directly to their mission and vision\, and how to talk about it with clarity and confidence.
X-ALT-DESC;FMTTYPE=text/html:<span style="font-size:16px\;"><strong>NAVIGATE Nonprofit Network Conference</strong>&trade\; is an annual event that encourages nonprofit board members\, staff\, and volunteers to learn from and strengthen each other.<br />\n<br />\nThis affordable\, high-quality professional development featuring 24 unique workshops across a wide range of topics connects nonprofit leaders with the strategies that will help them navigate challenges and help their organizations thrive.&nbsp\;<br />\n&nbsp\;<br />\nAlison Kling\, CEO of Free 2 Teach is the 2026 NAVIGATE keynote speaker. &nbsp\;<br />\n<br />\n<strong>&ldquo\;Lead with How: From Identity to Impact&rdquo\;</strong><br />\nWhat if the most powerful strategy your organization has&hellip\; is something you&rsquo\;re already doing? Lead with How framework: a practical and powerful approach to help nonprofits uncover how their daily work connects directly to their mission and vision\, and how to talk about it with clarity and confidence.</span><br />\n&nbsp\;
LOCATION:VBC Saturn Ballroom & Salons See on Google Maps
UID:e.2112.18235
SEQUENCE:3
DTSTAMP:20260423T055410Z
URL:https://cm.hsvchamber.org/events/details/member-event-navigate-nonprofit-network-conference-05-12-2026-18235
END:VEVENT

END:VCALENDAR
