BEGIN:VCALENDAR
VERSION:2.0
PRODID:-//ChamberMaster//Event Calendar 2.0//EN
METHOD:PUBLISH
X-PUBLISHED-TTL:P3D
REFRESH-INTERVAL:P3D
CALSCALE:GREGORIAN
BEGIN:VEVENT
DTSTART:20210225T150000Z
DTEND:20210225T170000Z
X-MICROSOFT-CDO-ALLDAYEVENT:FALSE
SUMMARY:MEMBER EVENT: NAITA Trade Controls for Technology Firms
DESCRIPTION:Given the U.S. Government's ongoing effort to designate and control certain emerging and foundational technologies\, it has never been more important for technology companies to understand the framework of international trade controls that will apply to their business operations.\n\n\n\nIn addition to helping companies mitigate their regulatory enforcement risk\, a working knowledge of U.S. export controls can also provide tech entrepreneurs with pathways to protect their technology\, preserve its commercial marketability\, and even have a voice in how the government treats it globally. Register HERE to take advantage of this opportunity to learn what technology firms need to be aware of regarding international trade controls.
X-ALT-DESC;FMTTYPE=text/html:<br />\n<span style="font-size:16px\;">Given the U.S. Government&rsquo\;s ongoing effort to designate and control certain emerging and foundational technologies\, it has never been more important for technology companies to understand the framework of international trade controls that will apply to their business operations.<br />\n<br />\nIn addition to helping companies mitigate their regulatory enforcement risk\, a working knowledge of U.S. export controls can also provide tech entrepreneurs with pathways to protect their technology\, preserve its commercial marketability\, and even have a voice in how the government treats it globally. Register <a href="https://attendee.gotowebinar.com/register/5309884011378612494"><strong>HERE</strong></a> to take advantage of this opportunity to learn what technology firms need to be aware of regarding international trade controls.</span>
LOCATION:Virtual event
UID:e.2112.12095
SEQUENCE:3
DTSTAMP:20260421T145618Z
URL:https://cm.hsvchamber.org/events/details/member-event-naita-trade-controls-for-technology-firms-12095
END:VEVENT

END:VCALENDAR
