BEGIN:VCALENDAR
VERSION:2.0
PRODID:-//ChamberMaster//Event Calendar 2.0//EN
METHOD:PUBLISH
X-PUBLISHED-TTL:P3D
REFRESH-INTERVAL:P3D
CALSCALE:GREGORIAN
BEGIN:VEVENT
DTSTART:20260423T200000Z
DTEND:20260423T220000Z
X-MICROSOFT-CDO-ALLDAYEVENT:FALSE
SUMMARY:MEMBER EVENT: NAITA Trade Compliance Roundtable on Defense & Aerospace
DESCRIPTION:NAITA Trade Compliance Roundtable on Defense & Aerospace\n\nIncluding Drones & UAVs \nExport Compliance in Defense and Aerospace is no longer a linear\, checkbox-driven process. While the underlying frameworks under the ITAR and EAR remain largely intact\, the global trade environment has shifted aggressively. What used to be predictable is now dynamic\, where enforcement scrutiny\, and operational expectations have elevated compliance into a real-time risk management function that directly impacts mission success. This discussion focuses on that shift. How geopolitics\, dual-use proliferation\, and evolving enforcement posture are redefining how we operate\, particularly in high-impact areas like drones and UAVs.\n\nWe will center on how mature organizations are adapting\, and what separates them from reactive ones\, including:\n\n\n	Embedding compliance upstream into planning\, operations\, and decision-making rather than treating it as a downstream gate.\n	Aligning licensing strategy with operational objectives to enable speed without sacrificing control.\n	Managing technical data and software as primary compliance drivers\, vs secondary considerations.\n	Structuring programs that integrate compliance into real-time execution\, including demos\, repairs\, and international engagements.\n	Building internal cultures where compliance is not a function\, but a core operational capacity.\n\n\nPanelists Include:\n\nJoshua McGuire\,Trade Compliance Officer\, SES | Science & Engineering Services\, LLC\n\nJonathan Young\, Export Control Manager\, AV\n\nDavid Lucas\, Partner\, Womble Bond Dickinson\, moderator\n\nAngela Ennis\, Global Trade Advisor\, Womble Bond Dickinson\n\n\nFor more information\, visit is online.
X-ALT-DESC;FMTTYPE=text/html:<strong><span style="font-size:16px\;">NAITA Trade Compliance Roundtable on Defense &amp\; Aerospace<br />\nIncluding Drones &amp\; UAVs&nbsp\;</span></strong>\n<p><span style="font-size:16px\;">Export Compliance in Defense and Aerospace is no longer a linear\, checkbox-driven process. While the underlying frameworks under the ITAR and EAR remain largely intact\, the global trade environment has shifted aggressively. What used to be predictable is now dynamic\, where enforcement scrutiny\, and operational expectations have elevated compliance into a real-time risk management function that directly impacts mission success. This discussion focuses on that shift. How geopolitics\, dual-use proliferation\, and evolving enforcement posture are redefining how we operate\, particularly in high-impact areas like drones and UAVs.</span></p>\n\n<p><span style="font-size:16px\;">We will center on how mature organizations are adapting\, and what separates them from reactive ones\, including:</span></p>\n\n<ul>\n	<li><span style="font-size:14px\;">Embedding compliance upstream into planning\, operations\, and decision-making rather than treating it as a downstream gate.</span></li>\n	<li><span style="font-size:14px\;">Aligning licensing strategy with operational objectives to enable speed without sacrificing control.</span></li>\n	<li><span style="font-size:14px\;">Managing technical data and software as primary compliance drivers\, vs secondary considerations.</span></li>\n	<li><span style="font-size:14px\;">Structuring programs that integrate compliance into real-time execution\, including demos\, repairs\, and international engagements.</span></li>\n	<li><span style="font-size:14px\;">Building internal cultures where compliance is not a function\, but a core operational capacity.</span></li>\n</ul>\n\n<p><span style="font-size:16px\;"><strong>Panelists Include:</strong></span></p>\n\n<p><span style="font-size:16px\;"><a href="https://www.linkedin.com/in/jc-mcguire/" rel="noopener" target="_blank">Joshua McGuire</a>\,<span style="font-size:14px\;">Trade Compliance Officer\, SES | Science &amp\; Engineering Services\, LLC</span><br />\n<a href="https://www.linkedin.com/in/jonathan-young-24680b107/" rel="noopener" target="_blank">Jonathan Young</a>\, <span style="font-size:14px\;">Export Control Manager\, AV</span><br />\n<a href="https://www.womblebonddickinson.com/us/people/david-lucas" rel="noopener" target="_blank">David Lucas</a>\, <span style="font-size:14px\;">Partner\, Womble Bond Dickinson\, <em>moderator</em></span><br />\n<a href="https://www.womblebonddickinson.com/us/people/angela-ennis" rel="noopener" target="_blank">Angela Ennis</a>\, <span style="font-size:14px\;">Global Trade Advisor\, Womble Bond Dickinson</span></span></p>\n<br />\n<span style="font-size:16px\;">For more information\, visit is <a href="https://naita.org/event/trade-compliance-roundtable-export-compliance-for-defense-aerospace-including-drones-uavs/">online</a>.</span><br />\n<br />\n&nbsp\;
LOCATION:Yulista Conference Center at Redstone Gateway
UID:e.2112.18583
SEQUENCE:3
DTSTAMP:20260420T231430Z
URL:https://cm.hsvchamber.org/events/details/member-event-naita-trade-compliance-roundtable-on-defense-aerospace-18583
END:VEVENT

END:VCALENDAR
