BEGIN:VCALENDAR
VERSION:2.0
PRODID:-//ChamberMaster//Event Calendar 2.0//EN
METHOD:PUBLISH
X-PUBLISHED-TTL:P3D
REFRESH-INTERVAL:P3D
CALSCALE:GREGORIAN
BEGIN:VEVENT
DTSTART;VALUE=DATE:20230503
DTEND;VALUE=DATE:20230504
TRANSP:TRANSPARENT
X-MICROSOFT-CDO-ALLDAYEVENT:TRUE
SUMMARY:MEMBER EVENT: Municipal Clerks & Administrators Training (3 days)
DESCRIPTION:Continuing Education and Lifelong Learning offers professional training opportunities for Municipal Clerks to assist them in earning their Alabama Certified Municipal Clerk and Master Municipal Clerk professional designations.\n\n\n\nThe Certification Institute for Municipal Clerks (CMC) and Master Municipal Clerk Academy (MMC) are held biannually. The Annual Municipal Clerks and Administrators Conference is held annually\, traditionally in the fall\, in various locations around the state. The annual conference provides city clerks and administrators with an overview of important issues and concerns facing them professionally. This training is not exclusive to municipal clerks\; many individuals with similar job responsibilities attend.\n\n\n\nEach Municipal Clerks Training Institute provides 20 contact hours of continuing education. These programs also offer CPE through the Alabama State Board of Public Accountancy.
X-ALT-DESC;FMTTYPE=text/html:<span style="font-size:16px\;">Continuing Education and Lifelong Learning offers professional training opportunities for Municipal Clerks to assist them in earning their <strong>Alabama Certified Municipal Clerk </strong>and<strong> Master Municipal Clerk</strong> professional designations.<br />\n<br />\nThe Certification Institute for Municipal Clerks (CMC) and Master Municipal Clerk Academy (MMC) are held biannually. The Annual Municipal Clerks and Administrators Conference is held annually\, traditionally in the fall\, in various locations around the state. The annual conference provides city clerks and administrators with an overview of important issues and concerns facing them professionally. This training is not exclusive to municipal clerks\; many individuals with similar job responsibilities attend.<br />\n<br />\nEach Municipal Clerks Training Institute provides 20 contact hours of continuing education. These programs also offer CPE through the Alabama State Board of Public Accountancy.</span><br />\n&nbsp\;
LOCATION:Bryant Conference Center
UID:e.2112.14417
SEQUENCE:3
DTSTAMP:20260423T212527Z
URL:https://cm.hsvchamber.org/events/details/member-event-municipal-clerks-administrators-training-3-days-14417
END:VEVENT

END:VCALENDAR
