BEGIN:VCALENDAR
VERSION:2.0
PRODID:-//ChamberMaster//Event Calendar 2.0//EN
METHOD:PUBLISH
X-PUBLISHED-TTL:P3D
REFRESH-INTERVAL:P3D
CALSCALE:GREGORIAN
BEGIN:VEVENT
DTSTART:20151018T000000Z
DTEND:20151018T040000Z
X-MICROSOFT-CDO-ALLDAYEVENT:FALSE
SUMMARY:MEMBER EVENT: Moondust Big Band
DESCRIPTION:Moondust Big Band is 18 (or more) talented musicians playing the classic big band music they love. Moondust Big Band will be the musical guests for the Huntsville Swing Dance Society's October dance.\n\n\n\nThere is a dance lesson at 7 p.m.\, and the Band kicks off at 8 p.m.
X-ALT-DESC;FMTTYPE=text/html:<br />\n<span style="font-size:14px\;"><span style="font-family:arial\;"><span style="color: rgb(68\, 68\, 68)\;">Moondust</span><span style="color: rgb(68\, 68\, 68)\;"> Big Band is 18 (or more) talented musicians playing the classic big band music they love. </span><span style="color: rgb(68\, 68\, 68)\;">Moondust Big Band will be the musical guests for the Huntsville Swing Dance Society&rsquo\;s October dance.<br />\n<br />\nThere is a dance lesson at 7 p.m.\, and the Band kicks off at 8 p.m.&nbsp\;</span></span></span>
LOCATION:Lowe Mill ARTS & Entertainment Flying Monkey Theatre 2211 Seminole Drive Huntsville\, AL 35805
UID:e.2112.5126
SEQUENCE:3
DTSTAMP:20260419T205652Z
URL:https://cm.hsvchamber.org/events/details/member-event-moondust-big-band-10-17-2015-5126
END:VEVENT

END:VCALENDAR
