BEGIN:VCALENDAR
VERSION:2.0
PRODID:-//ChamberMaster//Event Calendar 2.0//EN
METHOD:PUBLISH
X-PUBLISHED-TTL:P3D
REFRESH-INTERVAL:P3D
CALSCALE:GREGORIAN
BEGIN:VEVENT
DTSTART:20220507T150000Z
DTEND:20220507T190000Z
X-MICROSOFT-CDO-ALLDAYEVENT:FALSE
SUMMARY:MEMBER EVENT: Model Development Workshop
DESCRIPTION:Do you need to get those model training hours in? Are you considering attending an upcoming casting call and want tips on how to secure selection? Have you always been interested in modeling but not sure how to get started? NO PROBLEM! We are here to assist!\n\n\n\nThis workshop is open to anyone interested in learning about the Business of Modeling (Securing the bag)\, Perfecting your Walk (Runway)\, Polishing your Posing (Print)\, and the Model Culture (Do's & Don't).\n\n\n\nSeating is limited so be sure to email mskerridavis@kelachemodelingagency.com for pre-registration info and payment. Refreshments will be provided. COVID precautions will be in place.
X-ALT-DESC;FMTTYPE=text/html:<span style="font-size:16px\;">Do you need to get those model training hours in? Are you considering attending an upcoming casting call and want tips on how to secure selection? Have you always been interested in modeling but not sure how to get started? NO PROBLEM! We are here to assist!<br />\n<br />\nThis workshop is open to anyone interested in learning about the Business of Modeling (Securing the bag)\, Perfecting your Walk (Runway)\, Polishing your Posing (Print)\, and the Model Culture (Do&#39\;s &amp\; Don&#39\;t).<br />\n<br />\nSeating is limited so be sure to email <a href="mailto:mskerridavis@kelachemodelingagency.com?subject=Modeling%20Development%20Workshop">mskerridavis@kelachemodelingagency.com</a> for pre-registration info and payment. Refreshments will be provided. COVID precautions will be in place.</span>
LOCATION:Magnolia Springs Clubhouse
UID:e.2112.13497
SEQUENCE:3
DTSTAMP:20260423T223149Z
URL:https://cm.hsvchamber.org/events/details/member-event-model-development-workshop-13497
END:VEVENT

END:VCALENDAR
