BEGIN:VCALENDAR
VERSION:2.0
PRODID:-//ChamberMaster//Event Calendar 2.0//EN
METHOD:PUBLISH
X-PUBLISHED-TTL:P3D
REFRESH-INTERVAL:P3D
CALSCALE:GREGORIAN
BEGIN:VEVENT
DTSTART:20150920T000000Z
DTEND:20150920T030000Z
X-MICROSOFT-CDO-ALLDAYEVENT:FALSE
SUMMARY:MEMBER EVENT: Microwave Dave & Brotha Ric
DESCRIPTION:There's blues\, and then there's two times the blues.\n\nThe Huntsville Swing Dance Society is turning a deep shade of blues this month as we bring in two of Huntsville's best blues acts Microwave Dave and Brotha Ric Patton in the same evening. There will be a beginner blues dancing lesson from 7-8 and then our talented blues artists will trade off sets until around 11. You don't want to miss this unique and amazing experience!\n\nAnd if you already know a little bit of blues dancing\, there is a blues workshop during the day which will include 4 hours of blues instruction by Huy Huynh and Briana McIntire. Details for the workshop can be found here.
X-ALT-DESC;FMTTYPE=text/html:<p><br />\n<span style="font-size:14px\;"><span style="font-family:arial\;">There&rsquo\;s blues\, and then there&rsquo\;s two times the blues.</span></span></p>\n\n<p><span style="font-size:14px\;"><span style="font-family:arial\;">The Huntsville Swing Dance Society is turning a deep shade of blues this month as we bring in two of Huntsville&rsquo\;s best blues acts Microwave Dave and Brotha Ric Patton in the same evening. There will be a beginner blues dancing lesson from 7-8 and then our talented blues artists will trade off sets until around 11.&nbsp\;You don&rsquo\;t want to miss this unique and amazing experience!</span></span></p>\n\n<p><span style="font-family: arial\; font-size: 14px\; line-height: 1.6\;">And if you already know a little bit of blues dancing\, there is a blues workshop during the day which will include 4 hours of blues instruction by Huy </span>Huynh<span style="font-family: arial\; font-size: 14px\; line-height: 1.6\;"> and Briana </span>McIntire<span style="font-family: arial\; font-size: 14px\; line-height: 1.6\;">. Details for the workshop can be found <a href="https://www.facebook.com/events/770222033100246/">here</a></span><span style="font-family: arial\; font-size: 14px\; line-height: 1.6\;">.</span></p>\n
LOCATION:Lowe Mill ARTS & Entertainment Flying Monkey Theatre 2211 Seminole Drive Huntsville\, AL 35805
UID:e.2112.4907
SEQUENCE:3
DTSTAMP:20260419T191928Z
URL:https://cm.hsvchamber.org/events/details/member-event-microwave-dave-brotha-ric-09-19-2015-4907
END:VEVENT

END:VCALENDAR
