BEGIN:VCALENDAR
VERSION:2.0
PRODID:-//ChamberMaster//Event Calendar 2.0//EN
METHOD:PUBLISH
X-PUBLISHED-TTL:P3D
REFRESH-INTERVAL:P3D
CALSCALE:GREGORIAN
BEGIN:VEVENT
DTSTART:20151017T230000Z
DTEND:20151018T020000Z
X-MICROSOFT-CDO-ALLDAYEVENT:FALSE
SUMMARY:MEMBER EVENT: Mad Scientist Bash
DESCRIPTION:Grab your lab coat and break out the science beakers for Sci-Quest's 7th annual Mad Scientist Bash adult fundraiser! The Science Center will transform into a mad scientist's laboratory for this premier fundraiser to benefit Sci-Quest. Attendees are encouraged to wear their lab coats or Halloween costumes.\n\n\n\nGuests will enjoy an electrifying evening with delicious food from New Orleans Lunch Box\, drinks\, silent auction\, a digital light show from LED-Orange\, dancing\, and live music by The Crackerjacks. Come by The Valley's CW booth to get your picture taken with the Flash and Green Arrow*!  \n\n\n\n\n\n*Flash and Green Arrow are not the actual actors from the TV series.
X-ALT-DESC;FMTTYPE=text/html:<br />\n<span style="font-size:14px\;"><span style="font-family:arial\;">Grab your lab coat and break out the science beakers for Sci-Quest&#39\;s 7th annual <strong>Mad Scientist Bash </strong>adult fundraiser! The Science Center will transform into a mad scientist&#39\;s laboratory for this premier fundraiser to benefit Sci-Quest. </span></span><span style="font-family: arial\; font-size: 14px\; line-height: 22px\;">Attendees&nbsp\;are encouraged to wear their lab coats or Halloween costumes.</span><br />\n<br />\n<span style="font-size:14px\;"><span style="font-family:arial\;">Guests will enjoy an electrifying evening with delicious food from New Orleans Lunch Box\, drinks\, silent auction\, a digital light show from LED-Orange\, dancing\, and live music by The Crackerjacks. Come by The Valley&#39\;s CW booth to get your picture taken with the Flash and Green Arrow*! &nbsp\;<br />\n<br />\n<br />\n*<em>Flash and Green Arrow are not the actual actors from the TV series.</em></span></span>
LOCATION:Sci-Quest 1435 Paramount Drive Huntsville\, AL 35806
UID:e.2112.4864
SEQUENCE:3
DTSTAMP:20260419T205247Z
URL:https://cm.hsvchamber.org/events/details/member-event-mad-scientist-bash-10-17-2015-4864
END:VEVENT

END:VCALENDAR
