BEGIN:VCALENDAR
VERSION:2.0
PRODID:-//ChamberMaster//Event Calendar 2.0//EN
METHOD:PUBLISH
X-PUBLISHED-TTL:P3D
REFRESH-INTERVAL:P3D
CALSCALE:GREGORIAN
BEGIN:VEVENT
DTSTART:20221116T000000Z
DTEND:20221116T011500Z
X-MICROSOFT-CDO-ALLDAYEVENT:FALSE
SUMMARY:MEMBER EVENT: Let's Talk About ACT\, Admission & Career Connection
DESCRIPTION:Let's Talk About brings education and learning specialists together to help provide families of the Tennessee Valley community with knowledge and strategies to best meet the needs of their learners. Leading edge research and practices are the cornerstone of The Learning Team's vision and approach to supporting learners' success in and out of the classroom.\n\n\n\nIn short\, The Learning Team provides private\, personalized tutoring programs to students working to meet academic goals. In reality\, our services involve so much more than a tutoring session. We don't offer one-size-fits-all programs. Instead\, we take an individually unique approach to student growth and academic success.
X-ALT-DESC;FMTTYPE=text/html:<span style="font-size:16px\;"><strong>Let&#39\;s Talk About</strong> brings education and learning specialists together to help provide families of the Tennessee Valley community with knowledge and strategies to best meet the needs of their learners. Leading edge research and practices are the cornerstone of The Learning Team&#39\;s vision and approach to supporting learners&#39\; success in and out of the classroom.</span><br />\n<br />\n<em><span style="font-size:16px\;">In short\, The Learning Team provides private\, personalized tutoring programs to students working to meet academic goals. In reality\, our services involve so much more than a tutoring session. We don&rsquo\;t offer one-size-fits-all programs. Instead\, we take an individually unique approach to student growth and academic success.</span></em><br />\n&nbsp\;
LOCATION:Bryant Bank building
UID:e.2112.13743
SEQUENCE:3
DTSTAMP:20260421T052707Z
URL:https://cm.hsvchamber.org/events/details/member-event-let-s-talk-about-act-admission-career-connection-13743
END:VEVENT

END:VCALENDAR
