BEGIN:VCALENDAR
VERSION:2.0
PRODID:-//ChamberMaster//Event Calendar 2.0//EN
METHOD:PUBLISH
X-PUBLISHED-TTL:P3D
REFRESH-INTERVAL:P3D
CALSCALE:GREGORIAN
BEGIN:VEVENT
DTSTART:20230711T153000Z
DTEND:20230711T180000Z
X-MICROSOFT-CDO-ALLDAYEVENT:FALSE
SUMMARY:MEMBER EVENT: LearningQUEST Rally Day
DESCRIPTION:Lots of exciting events are packed into our Rally Day - Be there! \n\n\n\nBreakfast on us! Download and/or view the Spring 2023 Catalog
X-ALT-DESC;FMTTYPE=text/html:<span style="font-size:16px\;">Lots of exciting events are packed into our Rally Day - Be there!&nbsp\;<br />\n<br />\nBreakfast on us! Download and/or view the <strong><a href="https://lquest.org/wp-content/uploads/2022/12/LQ-SP23-Catalog.pdf">Spring 2023 Catalog</a></strong></span><br />\n&nbsp\;
LOCATION:Jaycee Community Building
UID:e.2112.15977
SEQUENCE:3
DTSTAMP:20260424T003544Z
URL:https://cm.hsvchamber.org/events/details/member-event-learningquest-rally-day-07-11-2023-15977
END:VEVENT

END:VCALENDAR
