BEGIN:VCALENDAR
VERSION:2.0
PRODID:-//ChamberMaster//Event Calendar 2.0//EN
METHOD:PUBLISH
X-PUBLISHED-TTL:P3D
REFRESH-INTERVAL:P3D
CALSCALE:GREGORIAN
BEGIN:VEVENT
DTSTART;VALUE=DATE:20210225
DTEND;VALUE=DATE:20210226
TRANSP:TRANSPARENT
X-MICROSOFT-CDO-ALLDAYEVENT:TRUE
SUMMARY:MEMBER EVENT: LearningQUEST Membership Drive
DESCRIPTION:LearningQUEST is inviting new members to sign up and and explore the variety of courses it is offering for the Spring term. Become a member\, invite other friends to sign up and win a free membership.  Also\, submit a favorite dessert recipe   you might be the next winner.
X-ALT-DESC;FMTTYPE=text/html:<br />\n<span style="font-size:16px\;">LearningQUEST is inviting new members to sign up and and explore the variety of courses it is offering for the Spring term. Become a member\, invite other friends to sign up and win a free membership.&nbsp\; Also\, submit a favorite dessert recipe &ndash\; you might be the next winner.</span>
LOCATION:Office: second floor\, downtown branch of the Huntsville/Madison Co. Public Library.
UID:e.2112.12019
SEQUENCE:3
DTSTAMP:20260421T145239Z
URL:https://cm.hsvchamber.org/events/details/member-event-learningquest-membership-drive-12019
END:VEVENT

END:VCALENDAR
