BEGIN:VCALENDAR
VERSION:2.0
PRODID:-//ChamberMaster//Event Calendar 2.0//EN
METHOD:PUBLISH
X-PUBLISHED-TTL:P3D
REFRESH-INTERVAL:P3D
CALSCALE:GREGORIAN
BEGIN:VEVENT
DTSTART:20151005T140000Z
DTEND:20151007T170000Z
X-MICROSOFT-CDO-ALLDAYEVENT:FALSE
SUMMARY:MEMBER EVENT: Learn to Skate Camp
DESCRIPTION:Huntsville Skating School and Training Academy\n\nFall Learn to Skate Camp \n\nOctober 5-7\n\n9 a.m. to 12 p.m.\n\n\n\n$75 Registration Fee includes: \n\n\n	90-minutes of supervised on-ice practice\n	Daily snack\n	45-minutes of coach instruction daily\n	Off-ice warm up (in tennis shoes)\n	Skate rental / proper boot fitting\n\n\n\nClick to register
X-ALT-DESC;FMTTYPE=text/html:<br />\n<span style="font-size:14px\;"><span style="font-family: arial\;">Huntsville Skating School and Training Academy<br />\nFall Learn to Skate Camp&nbsp\;<br />\nOctober 5-7<br />\n9 a.m. to 12 p.m.<br />\n<br />\n$75 Registration Fee includes:&nbsp\;</span></span>\n\n<ul>\n	<li><span style="font-size:14px\;"><span style="font-family: arial\;">90-minutes of supervised on-ice practice</span></span></li>\n	<li><span style="font-size:14px\;"><span style="font-family: arial\;">Daily snack</span></span></li>\n	<li><span style="font-size:14px\;"><span style="font-family: arial\;">45-minutes of coach instruction daily</span></span></li>\n	<li><span style="font-size:14px\;"><span style="font-family: arial\;">Off-ice warm up (in tennis shoes)</span></span></li>\n	<li><span style="font-size:14px\;"><span style="font-family: arial\;">Skate rental / proper boot fitting</span></span></li>\n</ul>\n<br />\n<span style="font-size:14px\;"><span style="font-family: arial\;"><a href="http://www.hsviceplex.org/s/2015-FallCampRegistration.pdf" onclick="window.open(this.href\, 'RegisterNow'\, 'resizable=yes\,status=yes\,location=yes\,toolbar=yes\,menubar=yes\,fullscreen=yes\,scrollbars=yes\,dependent=no\,width=250\,height=250')\; return false\;">Click to register</a></span></span>
LOCATION:Benton H. Wilcoxon Municipal Ice Complex 3185 Leeman Ferry Rd. SW Huntsville\, AL 35802
UID:e.2112.4932
SEQUENCE:3
DTSTAMP:20260419T205652Z
URL:https://cm.hsvchamber.org/events/details/member-event-learn-to-skate-camp-10-05-2015-4932
END:VEVENT

END:VCALENDAR
