BEGIN:VCALENDAR
VERSION:2.0
PRODID:-//ChamberMaster//Event Calendar 2.0//EN
METHOD:PUBLISH
X-PUBLISHED-TTL:P3D
REFRESH-INTERVAL:P3D
CALSCALE:GREGORIAN
BEGIN:VEVENT
DTSTART:20210218T223000Z
DTEND:20210219T003000Z
X-MICROSOFT-CDO-ALLDAYEVENT:FALSE
SUMMARY:MEMBER EVENT: Leadership Greater Huntsville Meet & Greet
DESCRIPTION:Want to know more about Leadership Greater Huntsville? Who are we? What do we do? What programs we offer\, and which one is the best for you? Come join LGH staff and volunteers on March 18 for a drink at Fractal Brewing and let us answer your questions!
X-ALT-DESC;FMTTYPE=text/html:<br />\n<span style="font-size:16px\;">Want to know more about Leadership Greater Huntsville? Who are we? What do we do? What programs we offer\, and which one is the best for you? Come join LGH staff and volunteers on March 18 for a drink at Fractal Brewing and let us answer your questions! </span><br />\n&nbsp\;
LOCATION:Fractal Brewing
UID:e.2112.12021
SEQUENCE:3
DTSTAMP:20260421T152622Z
URL:https://cm.hsvchamber.org/events/details/member-event-leadership-greater-huntsville-meet-greet-12021
END:VEVENT

END:VCALENDAR
