BEGIN:VCALENDAR
VERSION:2.0
PRODID:-//ChamberMaster//Event Calendar 2.0//EN
METHOD:PUBLISH
X-PUBLISHED-TTL:P3D
REFRESH-INTERVAL:P3D
CALSCALE:GREGORIAN
BEGIN:VEVENT
DTSTART;VALUE=DATE:20151022
DTEND;VALUE=DATE:20151023
TRANSP:TRANSPARENT
X-MICROSOFT-CDO-ALLDAYEVENT:TRUE
SUMMARY:MEMBER EVENT: Jumpstart Read for the Record Day
DESCRIPTION:In one day\, hundreds (or maybe thousands) of children ages three to eight years of age\, and adults who care about them\, will come together to raise awareness of the importance of reading by sharing this one special picture book\, Not Norman: A Goldfish Story by Kelly Bennett.\n\n\n\nLocally\, United Way of Madison County and the Junior League of Huntsville for the fourth year in a row are partnering with support from lots of local partners including the Huntsville Botanical Garden\, the Huntsville/Madison County Public Library\, Sci-Quest\, plus many volunteers and preschool classrooms.\n\n\n\n"Last year Madison County set a new reading record with more than 1\,800 children locally and more than 2 million nationally. United Way aims\, with the help of community partners\, to raise the record in Madison County to more than 2\,000\," says Community Impact Director\, Cathy Miller\, of United Way.\n\n\n\nTo learn more about how you can volunteer\, check out our needs here or call our office at 256-518-8203 to register.\n\n\n\nDownload flier
X-ALT-DESC;FMTTYPE=text/html:<br />\n<span style="font-size:14px\;"><span style="font-family: arial\;">In one day\, hundreds (or maybe thousands) of children ages three to eight years of age\, and adults who care about them\, will come together to raise awareness of the importance of reading by sharing this one special picture book\, <em>Not Norman: A Goldfish Story</em> by Kelly Bennett.<br />\n<br />\nLocally\, United Way of Madison County and the Junior League of Huntsville for the fourth year in a row are partnering with support from lots of local partners including the Huntsville Botanical Garden\, the Huntsville/Madison County Public Library\, Sci-Quest\, plus many volunteers and preschool classrooms.<br />\n<br />\n&quot\;Last year Madison County set a new reading record with more than 1\,800 children locally and more than 2 million nationally. United Way aims\, with the help of community partners\, to raise the record in Madison County to more than 2\,000\,&quot\; says Community Impact Director\, Cathy Miller\, of United Way.<br />\n<br />\nTo learn more about how you can volunteer\, check out our needs <a href="http://www.thevolunteercentermc.org/aem/general/event/?doc_id=2106">here</a> or call our office at 256-518-8203 to register.<br />\n<br />\n<a href="http://www.hsvchamber.org/member_conn/2015/102115/102215_unitedway.pdf" target="_blank">Download flier</a></span></span><br />\n<br />\n&nbsp\;
LOCATION:Public reads at Huntsville Botanical Garden\, EarlyWorks Children's Museum\, Huntsville/Madison Co. Public Libraries (during pre-school storytimes) and The Little Gym.
UID:e.2112.5221
SEQUENCE:3
DTSTAMP:20260419T210405Z
URL:https://cm.hsvchamber.org/events/details/member-event-jumpstart-read-for-the-record-day-10-22-2015-5221
END:VEVENT

END:VCALENDAR
