BEGIN:VCALENDAR
VERSION:2.0
PRODID:-//ChamberMaster//Event Calendar 2.0//EN
METHOD:PUBLISH
X-PUBLISHED-TTL:P3D
REFRESH-INTERVAL:P3D
CALSCALE:GREGORIAN
BEGIN:VEVENT
DTSTART:20151022T220000Z
DTEND:20151023T010000Z
X-MICROSOFT-CDO-ALLDAYEVENT:FALSE
SUMMARY:MEMBER EVENT: Jamie Joseph Jewelry Trunk Show
DESCRIPTION:Join us for a Jewelry Trunk Show featuring Jamie Joseph. Jamie Joseph Jewelry has always been about the stones. Working together\, Jamie and Jeremy Joseph convey their artistic vision by focusing on bringing light\, shape\, and an organic framework to some of the most beautiful stones in the world. Giving equal focus to qualities of movement\, asymmetry\, texture and luminosity\, stones are transformed into wearable treasures with gold\, silver\, platinum and diamonds.\n\n\n\nJamie has an artisan's aesthetic\, and her collections are renowned for meticulous craftsmanship\, signature stone cutting techniques\, and an abundance of color. Jamie Joseph's work has been featured in numerous publications world-wide including Vogue\, Elle\, and In Style. Collections are available at Bergdorf Goodman in New York and fine boutiques nationwide.
X-ALT-DESC;FMTTYPE=text/html:<br />\n<span style="font-size:14px\;"><span style="font-family: arial\;">Join us for a <strong>Jewelry Trunk Show </strong>featuring Jamie Joseph. Jamie Joseph Jewelry has always been about the stones. Working together\, Jamie and Jeremy Joseph convey their artistic vision by focusing on bringing light\, shape\, and an organic framework to some of the most beautiful stones in the world. Giving equal focus to qualities of movement\, asymmetry\, texture and luminosity\, stones are transformed into wearable treasures with gold\, silver\, platinum and diamonds.<br />\n<br />\nJamie has an artisan&#39\;s aesthetic\, and her collections are renowned for meticulous craftsmanship\, signature stone cutting techniques\, and an abundance of color. Jamie Joseph&#39\;s work has been featured in numerous publications world-wide including <em>Vogue</em>\, <em>Elle</em>\, and <em>In Style</em>. Collections are available at Bergdorf Goodman in New York and fine boutiques nationwide.</span></span>
LOCATION:The Little Green Store on Monte Sano 820 Monte Sano Boulevard Huntsville\, AL 35801
UID:e.2112.3308
SEQUENCE:3
DTSTAMP:20260419T211547Z
URL:https://cm.hsvchamber.org/events/details/member-event-jamie-joseph-jewelry-trunk-show-10-22-2015-3308
END:VEVENT

END:VCALENDAR
