BEGIN:VCALENDAR
VERSION:2.0
PRODID:-//ChamberMaster//Event Calendar 2.0//EN
METHOD:PUBLISH
X-PUBLISHED-TTL:P3D
REFRESH-INTERVAL:P3D
CALSCALE:GREGORIAN
BEGIN:VEVENT
DTSTART:20210623T150000Z
DTEND:20210623T160000Z
X-MICROSOFT-CDO-ALLDAYEVENT:FALSE
SUMMARY:MEMBER EVENT: Increase Cash from Your Business: Targeting Gross Profit
DESCRIPTION:In one hour\, you will learn why you should target Gross Profit and how to do it. Increase business cash flows by mastering decision-making using targets. In this webinar\, you will learn how to identify and calculate your target gross profit for: (a) breakeven profit (b) breakeven cash flow (c) positive cash flows. You'll also learn how to create a plan to achieve!
X-ALT-DESC;FMTTYPE=text/html:<span style="font-size:16px\;">In one hour\, you will learn why you should target Gross Profit and how to do it. Increase business cash flows by mastering decision-making using targets. In this webinar\, you will learn how to identify and calculate your target gross profit for: (a) breakeven profit (b) breakeven cash flow (c) positive cash flows. You&#39\;ll also learn how to create a plan to achieve!</span>
LOCATION:Virtual on Zoom
UID:e.2112.12581
SEQUENCE:3
DTSTAMP:20260421T083905Z
URL:https://cm.hsvchamber.org/events/details/member-event-increase-cash-from-your-business-targeting-gross-profit-12581
END:VEVENT

END:VCALENDAR
