BEGIN:VCALENDAR
VERSION:2.0
PRODID:-//ChamberMaster//Event Calendar 2.0//EN
METHOD:PUBLISH
X-PUBLISHED-TTL:P3D
REFRESH-INTERVAL:P3D
CALSCALE:GREGORIAN
BEGIN:VEVENT
DTSTART:20230912T230000Z
DTEND:20230913T003000Z
X-MICROSOFT-CDO-ALLDAYEVENT:FALSE
SUMMARY:MEMBER EVENT: IMS Annual Celebration & Awards Dinner
DESCRIPTION:Interfaith Mission Service is delighted to welcome back our community of congregants\, supporters\, and partners for an evening of food and fellowship at our 2023 IMS Annual Celebration & Awards Dinner.\n\n\n\nThe theme of the evening is based on the inspirational sentiment of Dr. King\, "The Fierce Urgency of Now\," and will feature an incredible keynote speaker   Jacquelyn Gates Shipe\, CEO of Global Ties Alabama.\n\n\n\nIndividual tickets as well as sponsorship opportunities are now available for purchase. We hope you will attend this special event and help us to continue creating and cultivating a beloved community. Get your tickets HERE.
X-ALT-DESC;FMTTYPE=text/html:<span style="font-size:16px\;">Interfaith Mission Service is delighted to welcome back our community of congregants\, supporters\, and partners for an evening of food and fellowship at our <strong>2023 IMS Annual Celebration &amp\; Awards Dinner</strong>.<br />\n<br />\nThe theme of the evening is based on the inspirational sentiment of Dr. King\, &quot\;The Fierce Urgency of Now\,&quot\; and will feature an incredible keynote speaker &mdash\; Jacquelyn Gates Shipe\, CEO of Global Ties Alabama.<br />\n<br />\nIndividual tickets as well as sponsorship opportunities are now available for purchase. We hope you will attend this special event and help us to continue creating and cultivating a beloved community. Get your tickets <a href="https://www.interfaithmissionservice.org/event/2023-acad/"><strong>HERE</strong></a>.</span><br />\n&nbsp\;
LOCATION:Trinity United Methodist Church Wesley Hall
UID:e.2112.16036
SEQUENCE:3
DTSTAMP:20260424T053259Z
URL:https://cm.hsvchamber.org/events/details/member-event-ims-annual-celebration-awards-dinner-16036
END:VEVENT

END:VCALENDAR
