BEGIN:VCALENDAR
VERSION:2.0
PRODID:-//ChamberMaster//Event Calendar 2.0//EN
METHOD:PUBLISH
X-PUBLISHED-TTL:P3D
REFRESH-INTERVAL:P3D
CALSCALE:GREGORIAN
BEGIN:VEVENT
DTSTART:20220822T180000Z
DTEND:20220822T193000Z
X-MICROSOFT-CDO-ALLDAYEVENT:FALSE
SUMMARY:MEMBER EVENT: Huntsville’s Dynamic Future
DESCRIPTION:Two city leaders will present their perspective on Huntsville's projected/predicted future: Ken Smith\, Director of Research & Info Systems for the Huntsville/Madison County Chamber\, and Dennis Madsen\, Manager of Long Range & Urban Planning for the City of Huntsville.\n\n\n\nSmith will draw on his expertise on the Huntsville area economy showing growth data and factors driving growth and the status of new and expanding companies. Madsen will focus on trends in development\, changes in demographics\, and making quality of life investments.\n\n\n\nA question and answer period will follow each speaker.
X-ALT-DESC;FMTTYPE=text/html:<span style="font-size:16px\;">Two city leaders will present their perspective on Huntsville&rsquo\;s projected/predicted future: <strong>Ken Smith</strong>\, Director of Research &amp\; Info Systems for the Huntsville/Madison County Chamber\, and <strong>Dennis Madsen</strong>\, Manager of Long Range &amp\; Urban Planning for the City of Huntsville.<br />\n<br />\nSmith will draw on his expertise on the Huntsville area economy showing growth data and factors driving growth and the status of new and expanding companies. Madsen will focus on trends in development\, changes in demographics\, and making quality of life investments.<br />\n<br />\nA question and answer period will follow each speaker.&nbsp\;</span>
LOCATION:North Huntsville Public Library\, Community Room
UID:e.2112.13648
SEQUENCE:3
DTSTAMP:20260423T073037Z
URL:https://cm.hsvchamber.org/events/details/member-event-huntsville-s-dynamic-future-13648
END:VEVENT

END:VCALENDAR
