BEGIN:VCALENDAR
VERSION:2.0
PRODID:-//ChamberMaster//Event Calendar 2.0//EN
METHOD:PUBLISH
X-PUBLISHED-TTL:P3D
REFRESH-INTERVAL:P3D
CALSCALE:GREGORIAN
BEGIN:VEVENT
DTSTART;VALUE=DATE:20230131
DTEND;VALUE=DATE:20230204
TRANSP:TRANSPARENT
X-MICROSOFT-CDO-ALLDAYEVENT:TRUE
SUMMARY:MEMBER EVENT: Huntsville Hurricanes Kick-off Game
DESCRIPTION:Huntsville Hurricanes have released the 2023 game schedule. The first game is on March 3 at 7 p.m. Tickets are on sale now! Group rates\, and chamber discounts available. \n\n\n\nCome on out and kick off the season with great entertainment\, food trucks\, and meet the team!
X-ALT-DESC;FMTTYPE=text/html:<span style="font-size:16px\;">Huntsville Hurricanes have released the 2023 game schedule. The first game is on March 3 at 7 p.m. Tickets are on sale now! Group rates\, and chamber discounts available.&nbsp\;<br />\n<br />\nCome on out and kick off the season with great entertainment\, food trucks\, and meet the team!</span><br />\n&nbsp\;
LOCATION:James Clemmons High School
UID:e.2112.14030
SEQUENCE:3
DTSTAMP:20260423T165403Z
URL:https://cm.hsvchamber.org/events/details/member-event-huntsville-hurricanes-kick-off-game-14030
END:VEVENT

END:VCALENDAR
