BEGIN:VCALENDAR
VERSION:2.0
PRODID:-//ChamberMaster//Event Calendar 2.0//EN
METHOD:PUBLISH
X-PUBLISHED-TTL:P3D
REFRESH-INTERVAL:P3D
CALSCALE:GREGORIAN
BEGIN:VEVENT
DTSTART:20230909T140000Z
DTEND:20230909T180000Z
X-MICROSOFT-CDO-ALLDAYEVENT:FALSE
SUMMARY:MEMBER EVENT: Huntsville College Preparatory School Car Wash
DESCRIPTION:Huntsville College Preparatory School's PTO is hosting a Car Wash! \n\n\n\nHCPS is a K-12 nonprofit private school that serves children with learning differences such as ADHD\, Autism Spectrum Disorder\, anxiety\, dyslexia\, and those who simply need an individualized academic experience. Stop by on Saturday to get your car washed to support the school and students! Proceeds will go towards providing HCPS students with various opportunities and experiences.
X-ALT-DESC;FMTTYPE=text/html:<span style="font-size:16px\;">Huntsville College Preparatory School&#39\;s PTO is hosting a Car Wash!&nbsp\;<br />\n<br />\nHCPS is a K-12 nonprofit private school that serves children with learning differences such as ADHD\, Autism Spectrum Disorder\, anxiety\, dyslexia\, and those who simply need an individualized academic experience. Stop by on Saturday to get your car washed to support the school and students! Proceeds will go towards providing HCPS students with various opportunities and experiences.&nbsp\;</span><br />\n&nbsp\;
LOCATION:
UID:e.2112.16066
SEQUENCE:3
DTSTAMP:20260424T053818Z
URL:https://cm.hsvchamber.org/events/details/member-event-huntsville-college-preparatory-school-car-wash-16066
END:VEVENT

END:VCALENDAR
