BEGIN:VCALENDAR
VERSION:2.0
PRODID:-//ChamberMaster//Event Calendar 2.0//EN
METHOD:PUBLISH
X-PUBLISHED-TTL:P3D
REFRESH-INTERVAL:P3D
CALSCALE:GREGORIAN
BEGIN:VEVENT
DTSTART:20151004T010000Z
DTEND:20151004T023000Z
X-MICROSOFT-CDO-ALLDAYEVENT:FALSE
SUMMARY:MEMBER EVENT: Hullabaloo
DESCRIPTION:Can't Afford Cable presents an original comedy show. Laugh your a** off with new\, live\, hilarious sketches featuring the Hullabaloolunatics and some of their premiere filmed sketches. Topping off the comedy with fresh sketches from prominent national comedy groups featured on Comedy Central\, Funny or Die\, and IFC!
X-ALT-DESC;FMTTYPE=text/html:<br />\n<span style="font-size:14px\;"><span style="font-family:arial\;"><span style="color: rgb(68\, 68\, 68)\;"><em>Can&rsquo\;t Afford Cable</em> presents an original comedy show. Laugh your a** off with new\, live\, hilarious sketches featuring the Hullabaloolunatics and some of their premiere filmed sketches. Topping off the comedy with&nbsp\;fresh sketches from prominent&nbsp\;national comedy groups featured on Comedy Central\, Funny or Die\, and IFC!</span></span></span>
LOCATION:Lowe Mill ARTS & Entertainment Prototype Multimedia Studio 150 2211 Seminole Drive Huntsville\, AL 35805
UID:e.2112.5097
SEQUENCE:3
DTSTAMP:20260419T205303Z
URL:https://cm.hsvchamber.org/events/details/member-event-hullabaloo-10-03-2015-5097
END:VEVENT

END:VCALENDAR
