BEGIN:VCALENDAR
VERSION:2.0
PRODID:-//ChamberMaster//Event Calendar 2.0//EN
METHOD:PUBLISH
X-PUBLISHED-TTL:P3D
REFRESH-INTERVAL:P3D
CALSCALE:GREGORIAN
BEGIN:VEVENT
DTSTART:20230519T120000Z
DTEND:20230519T180000Z
X-MICROSOFT-CDO-ALLDAYEVENT:FALSE
SUMMARY:MEMBER EVENT: HTS Charity Golf Tournament for ELM Foundation
DESCRIPTION:HTS is excited to announce its 3rd Annual Charity Golf Tournament benefiting the ELM Foundation! The ELM Foundation works every day to take on the fundamental issues that challenge the growth and success of the people in our communities\, supporting those in need in our region and supporting those who support others.\n\n\n\nVisit our website to register!
X-ALT-DESC;FMTTYPE=text/html:<span style="font-size:16px\;">HTS is excited to announce its 3rd Annual Charity Golf Tournament benefiting the ELM Foundation! The ELM Foundation works every day to take on the fundamental issues that challenge the growth and success of the people in our communities\, supporting those in need in our region and supporting those who support others.<br />\n<br />\nVisit our <a href="https://www.htscharities.com/">website</a> to register!</span><br />\n&nbsp\;
LOCATION:Robert Trent Jones Golf Trail - Hampton Cove
UID:e.2112.14395
SEQUENCE:3
DTSTAMP:20260423T232804Z
URL:https://cm.hsvchamber.org/events/details/member-event-hts-charity-golf-tournament-for-elm-foundation-14395
END:VEVENT

END:VCALENDAR
