BEGIN:VCALENDAR
VERSION:2.0
PRODID:-//ChamberMaster//Event Calendar 2.0//EN
METHOD:PUBLISH
X-PUBLISHED-TTL:P3D
REFRESH-INTERVAL:P3D
CALSCALE:GREGORIAN
BEGIN:VEVENT
DTSTART:20150730T140000Z
DTEND:20150730T220000Z
X-MICROSOFT-CDO-ALLDAYEVENT:FALSE
SUMMARY:MEMBER EVENT: Homeschool Adventure Days
DESCRIPTION:This Homeschool Exclusive Ultimate Field Trip is designed with age-appropriate STEM curriculum. The adventure includes a guided tour of the U.S. Space & Rocket Center\, a Mars Meal\, an IMAX  or digital movie\, simulator experience and "Back to the Moon" hands-on activity.\n\n\n\nThis activity discusses requirements to sustain life and potential resources found on Earth's moon. Students test soil samples to better understand resource allocation and the conditions needed to support a lunar colony.\n\n\n\nAge-appropriate labs for students ages 6-13.\n\n\n\nAdditional Adventure Days:\n\n\n	Fall 2015: Oct. 8\n	Winter 2016: Dec.17\n	Spring 2016: Feb. 25
X-ALT-DESC;FMTTYPE=text/html:<div style="font-size: 14px\;"><br />\n<span style="font-size:14px\;"><span style="font-family: arial\;">This Homeschool Exclusive Ultimate Field Trip is designed with age-appropriate STEM curriculum. The adventure includes a guided tour of the U.S. Space &amp\; Rocket Center\, a Mars Meal\, an IMAX&reg\; or digital movie\, simulator experience and &quot\;Back to the Moon&quot\; hands-on activity.<br />\n<br />\nThis activity discusses requirements to sustain life and potential resources found on Earth&#39\;s moon. Students test soil samples to better understand resource allocation and the conditions needed to support a lunar colony.<br />\n<br />\nAge-appropriate labs for students ages 6-13.<br />\n<br />\nAdditional Adventure Days:</span></span></div>\n\n<ul>\n	<li style="font-size: 14px\;"><span style="font-size:14px\;">Fall 2015: Oct. 8</span></li>\n	<li style="font-size: 14px\;"><span style="font-size:14px\;">Winter 2016: Dec.17</span></li>\n	<li style="font-size: 14px\;"><span style="font-size:14px\;"><span style="font-family: arial\;">Spring 2016: Feb. 25</span></span></li>\n</ul>\n
LOCATION:U.S. Space & Rocket Center NASA Educator Training Facility One Tranquility Base Huntsville\, AL 35805
UID:e.2112.3177
SEQUENCE:3
DTSTAMP:20260419T160209Z
URL:https://cm.hsvchamber.org/events/details/member-event-homeschool-adventure-days-07-30-2015-3177
END:VEVENT

END:VCALENDAR
