BEGIN:VCALENDAR
VERSION:2.0
PRODID:-//ChamberMaster//Event Calendar 2.0//EN
METHOD:PUBLISH
X-PUBLISHED-TTL:P3D
REFRESH-INTERVAL:P3D
CALSCALE:GREGORIAN
BEGIN:VEVENT
DTSTART:20230204T160000Z
DTEND:20230204T200000Z
X-MICROSOFT-CDO-ALLDAYEVENT:FALSE
SUMMARY:MEMBER EVENT: Health Fair
DESCRIPTION:Sparks HealthCare Clinic will be hosting a Health Fair! Our focus is on promoting and staying healthy in this new year. We will be doing free blood pressure and blood sugar checks\, as well as discussing risk factors of heart disease.\n\n\n\nThere will be games and chances to win prizes. This is also a great opportunity to meet our provider\, Mary Sparks\, CRNP. This event is free and open to anyone. Refreshments will be served.
X-ALT-DESC;FMTTYPE=text/html:<span style="font-size:16px\;">Sparks HealthCare Clinic will be hosting a <strong>Health Fair</strong>! Our focus is on promoting and staying healthy in this new year. We will be doing free blood pressure and blood sugar checks\, as well as discussing risk factors of heart disease.<br />\n<br />\nThere will be games and chances to win prizes. This is also a great opportunity to meet our provider\, Mary Sparks\, CRNP. This event is free and open to anyone. Refreshments will be served.&nbsp\;</span><br />\n&nbsp\;
LOCATION:Sparks HealthCare Clinic
UID:e.2112.13782
SEQUENCE:3
DTSTAMP:20260423T184154Z
URL:https://cm.hsvchamber.org/events/details/member-event-health-fair-13782
END:VEVENT

END:VCALENDAR
