BEGIN:VCALENDAR
VERSION:2.0
PRODID:-//ChamberMaster//Event Calendar 2.0//EN
METHOD:PUBLISH
X-PUBLISHED-TTL:P3D
REFRESH-INTERVAL:P3D
CALSCALE:GREGORIAN
BEGIN:VEVENT
DTSTART:20151009T000000Z
DTEND:20151009T023000Z
X-MICROSOFT-CDO-ALLDAYEVENT:FALSE
SUMMARY:MEMBER EVENT: Hannah Aldridge\, David Mayfield and Walt Aldridge in Concert
DESCRIPTION:Tangled String Studios and their sponsor\, Downtown Huntsville Inc.\, are proud to present the Menage Tour starring three all-star Americana/Folk/Country musicians that you do not want to miss!\n\nHannah Aldridge is an Americana singer-songwriter whose last album\, "Razor Wire" has received outstanding responses from major mediums (Billboard\, American Songwriter\, No Depression\, Americana UK\, Maverick UK\, R2\, Country\, etc ) and charted in the top 40 in the US.\n\nIf you've seen David Mayfield perform with The Avett Brothers\, Mumford & Sons\, Jessica Lea Mayfield\, or at Bonnaroo\, you've caught his charisma\, heart\, and comedy.  His success as a singer-songwriter\, band leader\, and Grammy-nominated producer has resulted in an abundance of accolades\, such as from The Nashville Scene\, The Washington Post\, The Boston Globe\, American Songwriter\, and many more.\n\nWalt Aldridge has more than 33 years experience in the music industry as a songwriter\, recording artist\, record producer\, recording engineer\, music publisher and studio owner.  He has written or co-written 56 top 40 songs on the Billboard country charts and twice been named one of their top 10 writers of the year. "No Getting Over Me" was named ASCAP's most performed country song and "Holding Her and Loving You" received a Song of The Year award from the Nashville Songwriters Association International.  He has also been awarded a bronze star on the Alabama Music Hall of Fame Walk of Fame.
X-ALT-DESC;FMTTYPE=text/html:<p><span style="font-size:14px\;"><span style="font-family:arial\;"><strong>Tangled String Studios</strong>&nbsp\;and their&nbsp\;sponsor\,&nbsp\;<strong>Downtown Huntsville Inc.</strong>\, are proud to present the&nbsp\;<strong>Menage</strong><strong> Tour&nbsp\;</strong>starring three all-star Americana/Folk/Country musicians that you do not want to miss!</span></span></p>\n\n<p><span style="font-size:14px\;"><span style="font-family:arial\;"><strong>Hannah Aldridge</strong>&nbsp\;is an Americana singer-songwriter whose last album\, &ldquo\;Razor Wire&rdquo\; has received outstanding responses from major mediums (Billboard\, American Songwriter\, No Depression\, Americana UK\, Maverick UK\, R2\, Country\, etc&hellip\;) and charted in the top 40 in the US.</span></span></p>\n\n<p><span style="font-size:14px\;"><span style="font-family:arial\;">If you&rsquo\;ve seen&nbsp\;<strong>David Mayfield</strong>&nbsp\;perform with The Avett Brothers\, Mumford &amp\; Sons\, Jessica Lea Mayfield\, or at Bonnaroo\, you&rsquo\;ve caught his charisma\, heart\, and comedy.&nbsp\; His success as a singer-songwriter\, band leader\, and Grammy-nominated producer has resulted in an abundance of accolades\, such as from The Nashville Scene\, The Washington Post\, The Boston Globe\, American Songwriter\, and many more.</span></span></p>\n\n<p><span style="font-size:14px\;"><span style="font-family:arial\;"><strong>Walt Aldridge</strong>&nbsp\;has more than&nbsp\;33 years experience in the music industry as a songwriter\, recording artist\, record producer\, recording engineer\, music publisher and studio owner.&nbsp\; He has written or co-written 56 top 40 songs on the Billboard country charts and twice been named one of their top 10 writers of the year. &ldquo\;No Getting Over Me&rdquo\; was named ASCAP&rsquo\;s most performed country song and &ldquo\;Holding Her and Loving You&rdquo\; received a Song of The Year award from the Nashville Songwriters Association International.&nbsp\; He has also been awarded a bronze star on the Alabama Music Hall of Fame Walk of Fame.</span></span><br />\n<br />\n&nbsp\;</p>\n
LOCATION:Lowe Mill ARTS & Entertainment Tangled String Studio\, RR7 2211 Seminole Drive Huntsville\, AL 35805
UID:e.2112.5121
SEQUENCE:3
DTSTAMP:20260419T211707Z
URL:https://cm.hsvchamber.org/events/details/member-event-hannah-aldridge-david-mayfield-and-walt-aldridge-in-concert-10-08-2015-5121
END:VEVENT

END:VCALENDAR
