BEGIN:VCALENDAR
VERSION:2.0
PRODID:-//ChamberMaster//Event Calendar 2.0//EN
METHOD:PUBLISH
X-PUBLISHED-TTL:P3D
REFRESH-INTERVAL:P3D
CALSCALE:GREGORIAN
BEGIN:VEVENT
DTSTART:20151031T210000Z
DTEND:20151031T230000Z
X-MICROSOFT-CDO-ALLDAYEVENT:FALSE
SUMMARY:MEMBER EVENT: Halloween Spooktastic Skate
DESCRIPTION:The Benton H. Municipal Ice Complex is hosting a Halloween Spooktastic Skate featuring DJ "Freak Daddy" of The Huntsville Havoc. Costume Contests for Adults\, Students\, and Children.\n\n\n\nSKATE RENTAL INCLUDED WITH ADMISSION.
X-ALT-DESC;FMTTYPE=text/html:<br />\n<span style="font-size:14px\;"><span style="font-family: arial\;">The Benton H. Municipal Ice Complex is hosting a Halloween Spooktastic Skate featuring DJ &quot\;Freak Daddy&quot\; of The Huntsville Havoc. Costume Contests for Adults\, Students\, and Children.<br />\n<br />\nSKATE RENTAL INCLUDED WITH ADMISSION.</span></span><br />\n&nbsp\;
LOCATION:Benton H. Wilcoxon Municipal Ice Complex 3185 Leeman Ferry Road Huntsville\, AL 35801
UID:e.2112.5264
SEQUENCE:3
DTSTAMP:20260419T210246Z
URL:https://cm.hsvchamber.org/events/details/member-event-halloween-spooktastic-skate-10-31-2015-5264
END:VEVENT

END:VCALENDAR
