BEGIN:VCALENDAR
VERSION:2.0
PRODID:-//ChamberMaster//Event Calendar 2.0//EN
METHOD:PUBLISH
X-PUBLISHED-TTL:P3D
REFRESH-INTERVAL:P3D
CALSCALE:GREGORIAN
BEGIN:VEVENT
DTSTART:20230622T223000Z
DTEND:20230623T003000Z
X-MICROSOFT-CDO-ALLDAYEVENT:FALSE
SUMMARY:MEMBER EVENT: gener8tor | HudsonAlpha AgTech Accelerator
DESCRIPTION:In partnership with the HudsonAlpha Institute for Biotechnology\, gener8tor is proud to host our Spring 2023 Showcase featuring our HudsonAlpha AgTech Accelerator cohort!\n\n\n\nJoin us at Saturn V Hall as we showcase the amazing technology that the cohort has been working on these past 10 weeks\, while eating delicious food brought to us by the U.S. Space & Rocket Center's Biergarten event! This event is open to the public\, so invite your family and friends to enjoy a night out under a real rocket!\n\n\n\nRSVP Today!
X-ALT-DESC;FMTTYPE=text/html:<span style="font-size:16px\;">In partnership with the HudsonAlpha Institute for Biotechnology\, <strong>gener8tor</strong> is proud to host our Spring 2023 Showcase featuring our HudsonAlpha AgTech Accelerator cohort!<br />\n<br />\nJoin us at Saturn V Hall as we showcase the amazing technology that the cohort has been working on these past 10 weeks\, while eating delicious food brought to us by the U.S. Space &amp\; Rocket Center&rsquo\;s Biergarten event! This event is open to the public\, so invite your family and friends to enjoy a night out under a real rocket!<br />\n<br />\n<a href="https://cw18j04.na1.hubspotlinks.com/Ctc/I6+113/cW18j04/VWnsMC219r7JN3HsrTt37cF4W4Rs6st4_qWj7N8LB07w3lScGV1-WJV7CgDSWW3-hVLH3Kv1zrW5XlR3G1PvFLZW3zq1Pr9hkHvKW3Pxz-z4JkmwsW3n5_5-1QVMQKN9k2fSpyXrgYW5F9JXV62fhDnW6Jrf3W42xFd3Vb1YDl35jxMXN27Xr3ztKC2xW14hJsm8nWFgxW8tZqCV25clZsW76NRh237tltSW2XG6hp10mYSrW4my74B1JkcHmN2p7x3SjQq61W97zjYw19dJxlW2KMbhP1j9ZywVfbkDv33FZYjW6Y9PyC18wC3_W1xYFqT6GBlnRW8g1KY43_g5JvW1qMhf46tXNBtW4RL_b13vZ-MGW1slq6B5vtDwhW1yvPYb11zlfrW752Mq_81Sb41W5Nrlnb6MKqwk339s1">RSVP Today!</a></span><br />\n&nbsp\;
LOCATION:U.S. Space & Rocket Center Saturn V Hall
UID:e.2112.15976
SEQUENCE:3
DTSTAMP:20260423T225914Z
URL:https://cm.hsvchamber.org/events/details/member-event-gener8tor-hudsonalpha-agtech-accelerator-15976
END:VEVENT

END:VCALENDAR
