BEGIN:VCALENDAR
VERSION:2.0
PRODID:-//ChamberMaster//Event Calendar 2.0//EN
METHOD:PUBLISH
X-PUBLISHED-TTL:P3D
REFRESH-INTERVAL:P3D
CALSCALE:GREGORIAN
BEGIN:VEVENT
DTSTART:20210513T210000Z
DTEND:20210514T020000Z
X-MICROSOFT-CDO-ALLDAYEVENT:FALSE
SUMMARY:MEMBER EVENT: Fundraiser for NAMI Huntsville at Nothing But Noodles
DESCRIPTION:Mark your calendars for May 13th to support NAMI Huntsville at Nothing But Noodles during Mental Health Awareness Month! You can dine in or take out - just mention NAMI Huntsville at the register! You can also order online!\n\n\n\nGo ahead and RSVP through this link! This does not commit you to attending but lets GroupRaise know that we are marketing this event and plan to have people attend!\n\n\n\nhttps://www.groupraise.com/events/179484
X-ALT-DESC;FMTTYPE=text/html:Mark your calendars for May 13th to support NAMI Huntsville at Nothing But Noodles during Mental Health Awareness Month!&nbsp\;You can dine in or take out - just mention NAMI&nbsp\;Huntsville at the register! You can also order&nbsp\;online!<br />\n<br />\nGo ahead and RSVP through this link! This does not commit you to attending but lets GroupRaise know that we are marketing this event and plan to have people attend!<br />\n<br />\n<strong><span style="font-size:18px"><a href="https://www.groupraise.com/events/179484" style="color: rgb(0\, 124\, 137)\; font-weight: normal\;" target="_blank">https://www.groupraise.com/events/179484</a></span></strong>
LOCATION:Nothing But Noodles in Huntsville - 6125 University Dr NW Huntsville\, AL 35806
UID:e.2112.12307
SEQUENCE:3
DTSTAMP:20260421T120024Z
URL:https://cm.hsvchamber.org/events/details/member-event-fundraiser-for-nami-huntsville-at-nothing-but-noodles-12307
END:VEVENT

END:VCALENDAR
