BEGIN:VCALENDAR
VERSION:2.0
PRODID:-//ChamberMaster//Event Calendar 2.0//EN
METHOD:PUBLISH
X-PUBLISHED-TTL:P3D
REFRESH-INTERVAL:P3D
CALSCALE:GREGORIAN
BEGIN:VEVENT
DTSTART:20260521T120000Z
DTEND:20260521T220000Z
X-MICROSOFT-CDO-ALLDAYEVENT:FALSE
SUMMARY:MEMBER EVENT: Free Skin Cancer Screenings with Dermatology Specialists
DESCRIPTION:May is recognized as Skin Cancer Awareness Month\, a time dedicated to spreading awareness and education about a disease that one in five Americans will develop in their lifetime. When caught and treated early\, skin cancer is highly curable. Early detection is key\, which is why Dermatology Specialists is offering free skin cancer screenings throughout the month of May.\n\n\n\nSkin cancer can generally be divided into two types   non-melanoma (including basal and squamous cell carcinomas) and melanoma\, with melanoma being the least common and most aggressive. There are many effective treatments for eliminating skin cancer. Which treatment option is best depends on a variety of factors including type of skin cancer\, location\, size\, and features noted in the biopsy specimen results.\n\n\n\nDermatology Specialists will be offering free screenings for skin cancer at select locations throughout Alabama\, Florida\, Georgia\, and Mississippi in the hopes of helping community members keep their skin healthy and catch skin cancer early.\n\n\n\n*Free screenings are available at select Dermatology Specialists locations during the month of May to anyone 18 years or older who has not had a professional skin exam within the last 12 months. Visit mydermspecialists.com to see the full list of participating locations and dates. Appointments are required.\n\n\n\nLearn more HERE.
X-ALT-DESC;FMTTYPE=text/html:<span style="font-size:16px\;">May is recognized as Skin Cancer Awareness Month\, a time dedicated to spreading awareness and education about a disease that one in five Americans will develop in their lifetime. When caught and treated early\, skin cancer is highly curable. Early detection is key\, which is why Dermatology Specialists is offering free skin cancer screenings throughout the month of May.<br />\n<br />\nSkin cancer can generally be divided into two types &ndash\; non-melanoma (including basal and squamous cell carcinomas) and melanoma\, with melanoma being the least common and most aggressive. There are many effective treatments for eliminating skin cancer. Which treatment option is best depends on a variety of factors including type of skin cancer\, location\, size\, and features noted in the biopsy specimen results.<br />\n<br />\nDermatology Specialists will be offering free screenings for skin cancer at select locations throughout Alabama\, Florida\, Georgia\, and Mississippi in the hopes of helping community members keep their skin healthy and catch skin cancer early.<br />\n<br />\n*Free screenings are available at select Dermatology Specialists locations during the month of May to anyone 18 years or older who has not had a professional skin exam within the last 12 months. Visit mydermspecialists.com to see the full list of participating locations and dates. <strong>Appointments are required</strong>.<br />\n<br />\nLearn more <a href="https://mydermspecialists.com/may-skin-screening/may-skin-screening-flyer-2026/"><strong>HERE</strong></a>.</span><br />\n&nbsp\;
LOCATION:Dermatology Specialists of Alabama
UID:e.2112.18558
SEQUENCE:3
DTSTAMP:20260421T185332Z
URL:https://cm.hsvchamber.org/events/details/member-event-free-skin-cancer-screenings-with-dermatology-specialists-18558
END:VEVENT

END:VCALENDAR
