BEGIN:VCALENDAR
VERSION:2.0
PRODID:-//ChamberMaster//Event Calendar 2.0//EN
METHOD:PUBLISH
X-PUBLISHED-TTL:P3D
REFRESH-INTERVAL:P3D
CALSCALE:GREGORIAN
BEGIN:VEVENT
DTSTART:20230524T190000Z
DTEND:20230524T210000Z
X-MICROSOFT-CDO-ALLDAYEVENT:FALSE
SUMMARY:MEMBER EVENT: Free Skin Cancer Screenings (Huntsville)
DESCRIPTION:Dermatology Specialists of AL will be hosting free skin cancer screenings on May 24! Free screenings are available\, by appointment\, to adults 18 years or older who have not had a professional skin cancer exam in the last 12 months.\n\n\n\nFor more information\, visit mydermspecialists.com/freescreening. Limited appointments are available   call 256-533-1160 to schedule.\n\n\n\nWe are also offering 25% off all in-stock sunscreens through our online store\, store.aquamedicalspa.com.\n\n\n\nRules & restrictions apply. See staff or visit aquamedicalspa.com/specials-events for complete details.
X-ALT-DESC;FMTTYPE=text/html:<span style="font-size:16px\;">Dermatology Specialists of AL will be hosting free skin cancer screenings on May 24! Free screenings are available\, <strong>by appointment</strong>\, to adults 18 years or older who have not had a professional skin cancer exam in the last 12 months.<br />\n<br />\nFor more information\, visit <a href="https://mydermspecialists.com/freescreening/">mydermspecialists.com/freescreening</a>. Limited appointments are available &ndash\; call 256-533-1160 to schedule.<br />\n<br />\nWe are also offering 25% off all in-stock sunscreens through our online store\, <a href="https://store.aquamedicalspa.com/">store.aquamedicalspa.com</a>.<br />\n<br />\nRules &amp\; restrictions apply. See staff or visit <a href="https://aquamedicalspa.com/specials-events/">aquamedicalspa.com/specials-events</a> for complete details.</span><br />\n&nbsp\;
LOCATION:
UID:e.2112.14450
SEQUENCE:3
DTSTAMP:20260423T213102Z
URL:https://cm.hsvchamber.org/events/details/member-event-free-skin-cancer-screenings-huntsville-14450
END:VEVENT

END:VCALENDAR
