BEGIN:VCALENDAR
VERSION:2.0
PRODID:-//ChamberMaster//Event Calendar 2.0//EN
METHOD:PUBLISH
X-PUBLISHED-TTL:P3D
REFRESH-INTERVAL:P3D
CALSCALE:GREGORIAN
BEGIN:VEVENT
DTSTART;VALUE=DATE:20210517
DTEND;VALUE=DATE:20210518
TRANSP:TRANSPARENT
X-MICROSOFT-CDO-ALLDAYEVENT:TRUE
SUMMARY:MEMBER EVENT: FREE Karate Classes for Front Line Workers!
DESCRIPTION:We just want to say THANK YOU with 90-days of FREE Karate or JuJitsu at Alexander's Martial Arts for all Doctors\, Nurses\, Teachers\, and First Responders   includes a FREE UNIFORM and Orientation Class!\n\n\n\nSecure your spot in class by clicking HERE to pick a time for your orientation class. We'll get you fitted for a uniform and teach you some basics so we can start your 90 days of karate or JuJitsu.\n\n\n\nYour safety is our priority! To be eligible for in person classes\, you must show you are FULLY VACCINATED. Thank you for all you do (and have done) over the last year!
X-ALT-DESC;FMTTYPE=text/html:<span style="font-size:16px\;">We just want to say THANK YOU with 90-days of FREE Karate or JuJitsu at Alexander&#39\;s Martial Arts for all Doctors\, Nurses\, Teachers\, and First Responders &ndash\; includes a FREE UNIFORM and Orientation Class!<br />\n<br />\nSecure your spot in class by clicking <a href="https://us-east-2.protection.sophos.com/?d=alexandersmartialarts.net&amp\;u=aHR0cHM6Ly9vbmxpbmUuYWxleGFuZGVyc21hcnRpYWxhcnRzLm5ldC9maXJzdC1yZXNwb25kZXJzLWFuZC1lc3NlbnRpYWwtd29ya2Vycy1pbi1wZXJzb24tY2xhc3Nlcy1tYWRpc29uLw==&amp\;i=NWZmNzI3ZjNhOGE4NzIwZTEyYmIxZWE5&amp\;t=enBoamgrd2ZFbDhRRllFYUFaNmtPZ3ZPblpuU0N1WmQ1UHU2d2JSY2toMD0=&amp\;h=c409a3fbc86b47f4973e064c8e779073"><strong>HERE</strong></a> to pick a time for your orientation class. We&#39\;ll get you fitted for a uniform and teach you some basics so we can start your 90 days of karate or JuJitsu.<br />\n<br />\nYour safety is our priority! To be eligible for in person classes\, you must show you are FULLY VACCINATED. Thank you for all you do (and have done) over the last year!</span>
LOCATION:Alexander's Martial Arts Huntsville & Madison locations
UID:e.2112.12314
SEQUENCE:3
DTSTAMP:20260421T135451Z
URL:https://cm.hsvchamber.org/events/details/member-event-free-karate-classes-for-front-line-workers-12314
END:VEVENT

END:VCALENDAR
