BEGIN:VCALENDAR
VERSION:2.0
PRODID:-//ChamberMaster//Event Calendar 2.0//EN
METHOD:PUBLISH
X-PUBLISHED-TTL:P3D
REFRESH-INTERVAL:P3D
CALSCALE:GREGORIAN
BEGIN:VEVENT
DTSTART;VALUE=DATE:20151003
DTEND;VALUE=DATE:20151004
TRANSP:TRANSPARENT
X-MICROSOFT-CDO-ALLDAYEVENT:TRUE
SUMMARY:MEMBER EVENT: Fragments - Guided Exhibition Tour with David Nuttall
DESCRIPTION:Come meet artist David Nuttall and have a guided tour of the current show\, Fragments: Hand Drawn Plausible Fictitious Maps\, in the First Floor Main Gallery. Learn about the maps on display which include maps from David's childhood (from age 8) and the new series based on fragments of Lowe Mill\, where a small aspect of the Mill has been used as the terrain for a fictional map.\n\nTours are free and last about 45 minutes\, depending on the number of questions. Please meet in the gallery   located in the center of the 1st floor. Tours will be conducted with a minimum of five people. Please sign up for your chosen date by clicking here or call 256-682-3919 to confirm your place.
X-ALT-DESC;FMTTYPE=text/html:<p><br />\n<span style="font-size:14px\;"><span style="font-family:arial\;">Come meet artist David Nuttall and have a guided tour of the current show\, <em>Fragments: Hand Drawn Plausible Fictitious Maps</em>\, in the First Floor Main Gallery. Learn about the maps on display which include maps from David&rsquo\;s childhood (from age 8) and the new series based on fragments of Lowe Mill\, where a small aspect of the Mill has been used as the terrain for a fictional map.</span></span></p>\n\n<p><span style="font-size:14px\;"><span style="font-family:arial\;">Tours are free and last about 45 minutes\, depending on the number of questions. Please meet in the gallery &ndash\; located in the center of the 1st floor. Tours will be conducted with a minimum of five people. Please sign up for your chosen date by&nbsp\;<a href="http://www.artimaps.com/fragments.html" style="margin: 0px\; padding: 0px\; border: 0px\; font-style: inherit\; font-variant: inherit\; font-weight: inherit\; font-stretch: inherit\; font-size: inherit\; line-height: inherit\; font-family: inherit\; vertical-align: baseline\; text-decoration: none\; color: rgb(51\, 51\, 51)\;">clicking here</a>&nbsp\;or call 256-682-3919 to confirm your place.</span></span></p>\n
LOCATION:Lowe Mill ARTS & Entertainment First Main Floor Gallery 2211 Seminole Drive Huntsville\, AL 35805
UID:e.2112.5110
SEQUENCE:3
DTSTAMP:20260419T211402Z
URL:https://cm.hsvchamber.org/events/details/member-event-fragments-guided-exhibition-tour-with-david-nuttall-10-03-2015-5110
END:VEVENT

END:VCALENDAR
