BEGIN:VCALENDAR
VERSION:2.0
PRODID:-//ChamberMaster//Event Calendar 2.0//EN
METHOD:PUBLISH
X-PUBLISHED-TTL:P3D
REFRESH-INTERVAL:P3D
CALSCALE:GREGORIAN
BEGIN:VEVENT
DTSTART:20230610T150000Z
DTEND:20230610T170000Z
X-MICROSOFT-CDO-ALLDAYEVENT:FALSE
SUMMARY:MEMBER EVENT: Foster Parent Recruitment Fair
DESCRIPTION:Madison County Department of Human Resources Foster Parent Recruitment Fair   Come learn about the rewards of being a foster parent!\n\n\n\nFor more information on foster care\, click HERE.
X-ALT-DESC;FMTTYPE=text/html:<span style="font-size:16px\;">Madison County Department of Human Resources Foster Parent Recruitment Fair &ndash\; Come learn about the rewards of being a foster parent!<br />\n<br />\nFor more information on foster care\, click <a href="https://dhr.alabama.gov/foster-care/"><strong>HERE</strong></a>.</span>
LOCATION:Madison County DHR
UID:e.2112.15563
SEQUENCE:3
DTSTAMP:20260423T230518Z
URL:https://cm.hsvchamber.org/events/details/member-event-foster-parent-recruitment-fair-15563
END:VEVENT

END:VCALENDAR
