BEGIN:VCALENDAR
VERSION:2.0
PRODID:-//ChamberMaster//Event Calendar 2.0//EN
METHOD:PUBLISH
X-PUBLISHED-TTL:P3D
REFRESH-INTERVAL:P3D
CALSCALE:GREGORIAN
BEGIN:VEVENT
DTSTART:20230921T223000Z
DTEND:20230922T013000Z
X-MICROSOFT-CDO-ALLDAYEVENT:FALSE
SUMMARY:MEMBER EVENT: First Stop 15th Anniversary Celebration Dinner
DESCRIPTION:Join Us for Our Celebration Dinner\n\n\n\nThis year\, First Stop celebrates 15 years as a nonprofit organization. Fifteen years of providing essential services to the homeless in our community through our Outreach Team\, meals and showers offered in our Day Center\, and individuals helped by our Case Managers to exit homelessness.\n\n\n\nFifteen years of impact.\n\n\n\nWe could not have done this without the support of our generous donors\, volunteers\, and dedicated staff. Over the years\, we have watched Huntsville grow to become the largest city in the state of Alabama and named the "Best Place to Live" in the United States. We know there is still much work to be done\, and we are grateful for your continued support as we work to end homelessness in our community.\n\n\n\nWe invite you to join us for our 15-year Celebration Dinner on September 21. We'll be looking back on how this amazing community has helped First Stop encounter\, connect\, and empower the homeless in Huntsville over the years.\n\n\n\nDress code: business or cocktail attire
X-ALT-DESC;FMTTYPE=text/html:<span style="font-size:16px\;"><span style="font-size:20px\;">Join Us for Our Celebration Dinner</span><br />\n<br />\nThis year\, First Stop celebrates <strong>15 years</strong> as a nonprofit organization. Fifteen years of providing essential services to the homeless in our community through our Outreach Team\, meals and showers offered in our Day Center\, and individuals helped by our Case Managers to exit homelessness.<br />\n<br />\n<strong>Fifteen years of impact.</strong><br />\n<br />\nWe could not have done this without the support of our generous donors\, volunteers\, and dedicated staff. Over the years\, we have watched Huntsville grow to become the largest city in the state of Alabama and named the <em>&ldquo\;Best Place to Live&rdquo\;</em> in the United States. We know there is still much work to be done\, and we are grateful for your continued support as we work to end homelessness in our community.<br />\n<br />\nWe invite you to join us for our <a href="https://firststop.org/events-calendar/2023-annual-dinner/">15-year Celebration Dinner</a> on September 21. We&rsquo\;ll be looking back on how this amazing community has helped First Stop encounter\, connect\, and empower the homeless in Huntsville over the years.<br />\n<br />\n<span style="font-size:14px\;"><em>Dress code: business or cocktail attire</em></span></span><br />\n&nbsp\;
LOCATION:Jackson Center
UID:e.2112.16065
SEQUENCE:3
DTSTAMP:20260424T053259Z
URL:https://cm.hsvchamber.org/events/details/member-event-first-stop-15th-anniversary-celebration-dinner-16065
END:VEVENT

END:VCALENDAR
