BEGIN:VCALENDAR
VERSION:2.0
PRODID:-//ChamberMaster//Event Calendar 2.0//EN
METHOD:PUBLISH
X-PUBLISHED-TTL:P3D
REFRESH-INTERVAL:P3D
CALSCALE:GREGORIAN
BEGIN:VEVENT
DTSTART:20151007T200000Z
DTEND:20151007T220000Z
X-MICROSOFT-CDO-ALLDAYEVENT:FALSE
SUMMARY:MEMBER EVENT: Fall Into Good Habits Fall Festival
DESCRIPTION:Join Sarrell Dental for a free Fall Into Good Habits Fall Festival. In a perfect situation\, it will feel cool outside with no rain\, so we can host this event in our side parking lot. But if rain occurs\, we will move everything inside. \n\n\n\n\n\n \n\nWe would LOVE to have community members come out and set up a table with information about your company and a fun game/activity for kids to enjoy (no candy\, please!). Sarrell will be taking free fall pictures and painting faces\, as well as providing light (and healthy) refreshments! Our goal is to give back to our community and make sure kids know and understand ways to keep their body physically\, mentally and emotionally healthy   all while having fun and enjoying a nice fall afternoon!\n\n\n\n\n\n\n\n\n\n \n\n\n\nOrganizations: If you are interested in setting up a booth\, please email Alex Rainwater. We hope for a great turnout of both community members and children.
X-ALT-DESC;FMTTYPE=text/html:<div>\n<div>\n<div><br />\n<span style="font-size:14px\;"><span style="font-family: arial\;"><span dir="ltr" style="background-color: white\;">Join Sarrell Dental for a free <strong>Fall&nbsp\;Into Good Habits Fall Festival</strong>. In a perfect situation\,&nbsp\;it will feel&nbsp\;cool outside with no rain\, so we can host this event in our side parking lot. But if rain occurs\, we will move everything inside.&nbsp\;</span></span></span></div>\n</div>\n</div>\n\n<div>\n<div>\n<div>&nbsp\;</div>\n\n<div><span style="font-size:14px\;"><span style="font-family: arial\;"><span dir="ltr" style="background-color: white\;">We would LOVE to have community members come out&nbsp\;and set up a table with information about your company and a fun game/activity for kids to enjoy (no candy\, please!). Sarrell will be taking free fall pictures and painting faces\, as well as providing light (and healthy)&nbsp\;refreshments! Our goal is to give back to our community and&nbsp\;make sure kids know and understand ways to keep their body physically\, mentally and emotionally healthy &ndash\; all while having fun and enjoying a nice fall afternoon!</span></span></span></div>\n</div>\n</div>\n\n<div>\n<div>\n<div>\n<div>\n<div>\n<div>\n<div>&nbsp\;</div>\n</div>\n</div>\n</div>\n<span style="font-size:14px\;"><span style="font-family: arial\;"><span dir="ltr" style="background-color: white\;">Organizations: If you are interested in setting up a booth\, please email <a href="mailto:arainwater@sarrelldental.org">Alex Rainwater</a>. We hope for a great turnout of both community members and children.</span></span></span></div>\n</div>\n</div>\n
LOCATION:Sarrell Dental 310 W Elm Street Athens\, AL 35611
UID:e.2112.3348
SEQUENCE:3
DTSTAMP:20260419T210431Z
URL:https://cm.hsvchamber.org/events/details/member-event-fall-into-good-habits-fall-festival-10-07-2015-3348
END:VEVENT

END:VCALENDAR
