BEGIN:VCALENDAR
VERSION:2.0
PRODID:-//ChamberMaster//Event Calendar 2.0//EN
METHOD:PUBLISH
X-PUBLISHED-TTL:P3D
REFRESH-INTERVAL:P3D
CALSCALE:GREGORIAN
BEGIN:VEVENT
DTSTART:20230729T153000Z
DTEND:20230729T170000Z
X-MICROSOFT-CDO-ALLDAYEVENT:FALSE
SUMMARY:MEMBER EVENT: Fairy & Elf Event @ Harrison Brothers
DESCRIPTION:Calling all fairies and elves! Join us for a FREE\, family-friendly event celebrating all things fantastical. We'll have an art activity\, story time\, and demonstration of how to create your own magical fairy garden.\n\n\n\nCOSTUMES ENCOURAGED! Come dressed as your favorite fairy or elf! And remember\, parking downtown is FREE on Saturdays.
X-ALT-DESC;FMTTYPE=text/html:<span style="font-size:16px\;">Calling all fairies and elves! Join us for a FREE\, family-friendly event celebrating all things fantastical. We&#39\;ll have an art activity\, story time\, and demonstration of how to create your own magical fairy garden.<br />\n<br />\nCOSTUMES ENCOURAGED! Come dressed as your favorite fairy or elf! And remember\, parking downtown is FREE on Saturdays.</span><br />\n&nbsp\;
LOCATION:Harrison Brothers Hardware
UID:e.2112.16000
SEQUENCE:3
DTSTAMP:20260424T004721Z
URL:https://cm.hsvchamber.org/events/details/member-event-fairy-elf-event-harrison-brothers-16000
END:VEVENT

END:VCALENDAR
