BEGIN:VCALENDAR
VERSION:2.0
PRODID:-//ChamberMaster//Event Calendar 2.0//EN
METHOD:PUBLISH
X-PUBLISHED-TTL:P3D
REFRESH-INTERVAL:P3D
CALSCALE:GREGORIAN
BEGIN:VEVENT
DTSTART:20221108T170000Z
DTEND:20221108T190000Z
X-MICROSOFT-CDO-ALLDAYEVENT:FALSE
SUMMARY:MEMBER EVENT: Expert Lunch & Learn - Cloud & Managed Services
DESCRIPTION:Please join us for an insightful Lunch & Learn about trends in Cloud and Managed Services transformation.\n\n\n\nThe opportunities afforded by digital transformation are recognized across every sector of private and public industry. However\, many organizations are facing complex decisions and encountering practical obstacles in moving workloads to the cloud and connecting their increasingly distributed digital infrastructure. This presentation\, sponsored by DC BLOX\, will provide important insights into the challenges organizations are facing and some practical approaches to addressing them.\n\n\n\nGuest Speaker:\n\nMelanie Posey \n\nResearch Director for the Cloud & Managed Services Transformation\n\n451 Research\n\n\n\n\n\nClick HERE to register.
X-ALT-DESC;FMTTYPE=text/html:<span style="font-size:16px\;">Please join us for an insightful <strong>Lunch &amp\; Learn</strong> about trends in Cloud and Managed Services transformation.<br />\n<br />\nThe opportunities afforded by digital transformation are recognized across every sector of private and public industry. However\, many organizations are facing complex decisions and encountering practical obstacles in moving workloads to the cloud and connecting their increasingly distributed digital infrastructure. This presentation\, sponsored by <strong><a href="https://www.dcblox.com/">DC BLOX</a></strong>\, will provide important insights into the challenges organizations are facing and some practical approaches to addressing them.<br />\n<br />\n<em><span style="font-size:14px\;">Guest Speaker:<br />\n<span style="font-size:16px\;"><strong>Melanie Posey </strong></span><br />\nResearch Director for the Cloud &amp\; Managed Services Transformation<br />\n<a href="https://451research.com/">451 Research</a></span></em></span><br />\n<br />\n<br />\n<span style="font-size:16px\;">Click <a href="https://events.blackbirdrsvp.com/expert-lunch-learn-trends-in-cloud"><strong>HERE</strong></a> to register.</span><br />\n&nbsp\;
LOCATION:Jackson Center
UID:e.2112.13717
SEQUENCE:3
DTSTAMP:20260421T052245Z
URL:https://cm.hsvchamber.org/events/details/member-event-expert-lunch-learn-cloud-managed-services-13717
END:VEVENT

END:VCALENDAR
